BEGIN:VCALENDAR
VERSION:2.0
PRODID:-//Diocese de Roraima - ECPv6.15.17//NONSGML v1.0//EN
CALSCALE:GREGORIAN
METHOD:PUBLISH
X-ORIGINAL-URL:https://diocesederoraima.org.br
X-WR-CALDESC:Eventos para Diocese de Roraima
REFRESH-INTERVAL;VALUE=DURATION:PT1H
X-Robots-Tag:noindex
X-PUBLISHED-TTL:PT1H
BEGIN:VTIMEZONE
TZID:America/Manaus
BEGIN:STANDARD
TZOFFSETFROM:-0400
TZOFFSETTO:-0400
TZNAME:-04
DTSTART:20220101T000000
END:STANDARD
END:VTIMEZONE
BEGIN:VEVENT
DTSTART;VALUE=DATE:20230101
DTEND;VALUE=DATE:20230102
DTSTAMP:20260425T233817
CREATED:20221212T225856Z
LAST-MODIFIED:20221217T164755Z
UID:1357-1672531200-1672617599@diocesederoraima.org.br
SUMMARY:Caminhada e Missa da Paz
DESCRIPTION:Festa da Mãe de Deus\n01/01/2023 \nConcentração: na comunidade São João Batista\, às 17h \nProcissão até a comunidade Mãe Peregrina – rua Pedro Camargo\, 615 – Cidade Satélite \n\n 
URL:https://diocesederoraima.org.br/evento/caminhada-da-paz/
LOCATION:Comunidade São João Batista\, Av. Parimé Brasil\, 730 - Caranã\, Boa Vista\, Roraima\, 69317-550\, Brasil
ATTACH;FMTTYPE=image/png:https://diocesederoraima.org.br/wp-content/uploads/2022/12/caminhada-da-paz.png
END:VEVENT
END:VCALENDAR