BEGIN:VCALENDAR
VERSION:2.0
PRODID:-//Diocese de Roraima - ECPv6.15.17//NONSGML v1.0//EN
CALSCALE:GREGORIAN
METHOD:PUBLISH
X-ORIGINAL-URL:https://diocesederoraima.org.br
X-WR-CALDESC:Eventos para Diocese de Roraima
REFRESH-INTERVAL;VALUE=DURATION:PT1H
X-Robots-Tag:noindex
X-PUBLISHED-TTL:PT1H
BEGIN:VTIMEZONE
TZID:America/Sao_Paulo
BEGIN:STANDARD
TZOFFSETFROM:-0300
TZOFFSETTO:-0300
TZNAME:-03
DTSTART:20220101T000000
END:STANDARD
END:VTIMEZONE
BEGIN:VEVENT
DTSTART;TZID=America/Sao_Paulo:20230118T080000
DTEND;TZID=America/Sao_Paulo:20230304T170000
DTSTAMP:20260425T233815
CREATED:20230126T142729Z
LAST-MODIFIED:20230126T142729Z
UID:1696-1674028800-1677949200@diocesederoraima.org.br
SUMMARY:Festejos em honra Santa Inês
DESCRIPTION:
URL:https://diocesederoraima.org.br/evento/festejos-em-honra-santa-ines/
LOCATION:Comunidade Santa Inês\, R. Tia Sabá\, 291 - Centenário\, Boa Vista\, Roraima\, 69312-523\, Brasil
END:VEVENT
BEGIN:VEVENT
DTSTART;VALUE=DATE:20230125
DTEND;VALUE=DATE:20230126
DTSTAMP:20260425T233815
CREATED:20230116T191538Z
LAST-MODIFIED:20230116T194302Z
UID:1594-1674604800-1674691199@diocesederoraima.org.br
SUMMARY:São Paulo\, Apóstolo
DESCRIPTION:Festa do Padroeiro\n‘Como Paulo\, somos chamados à Conversão e Vocação’ \nProgramação:\n14 de jan: 13h30 às 17h – Encontro de Pais e Padrinhos. \n21de jan: 18h – Missa e Batizados\nBênção às crianças e pais. \n22 de jan: 18h30 – Missa – 1° dia do Tríduo\nBênção aos jovens e adolescentes. \n23 de jan: 18h30 – Missa – 2° dia do Tríduo\nBênção aos líderes comunitários. \n24 de jan: 18h30 – Missa – 3° dia do Tríduo\nBênção aos idosos e doentes \n25 de jan – Conversão de Paulo\n🔸18h30 – Procissão\n🔸Missa (Bênção do Ícone/pintura da Conversão de Paulo e aos carteiros)\n🔸Arraial – comidas típicas e Bingo. \nVenha participar conosco!
URL:https://diocesederoraima.org.br/evento/sao-paulo-apostolo/
LOCATION:Comunidade São Paulo\, Avenida São Paulo\, 324 - Bairro dos Estados\, Boa Vista\, Roraima\, Brasil
ATTACH;FMTTYPE=image/jpeg:https://diocesederoraima.org.br/wp-content/uploads/2023/01/Noticias-2022-01-21T101702.375-e1673894550177.jpg
END:VEVENT
END:VCALENDAR