BEGIN:VCALENDAR
VERSION:2.0
PRODID:-//Diocese de Roraima - ECPv6.15.17//NONSGML v1.0//EN
CALSCALE:GREGORIAN
METHOD:PUBLISH
X-ORIGINAL-URL:https://diocesederoraima.org.br
X-WR-CALDESC:Eventos para Diocese de Roraima
REFRESH-INTERVAL;VALUE=DURATION:PT1H
X-Robots-Tag:noindex
X-PUBLISHED-TTL:PT1H
BEGIN:VTIMEZONE
TZID:America/Sao_Paulo
BEGIN:STANDARD
TZOFFSETFROM:-0300
TZOFFSETTO:-0300
TZNAME:-03
DTSTART:20220101T000000
END:STANDARD
END:VTIMEZONE
BEGIN:VEVENT
DTSTART;VALUE=DATE:20230314
DTEND;VALUE=DATE:20230315
DTSTAMP:20260425T205715
CREATED:20230314T160103Z
LAST-MODIFIED:20230314T160218Z
UID:2028-1678752000-1678838399@diocesederoraima.org.br
SUMMARY:Santa Matilde
DESCRIPTION:Origens\nMatilde era descendente de nobres saxões. Nasceu na região de Westfalia\, na Alemanha\, por volta de 895. Foi educada por sua avó\, que também se chamava Matilde e era abadessa de um mosteiro de monjas beneditinas em Herford. Por causa dessa educação\, ela aprendeu a ler e a escrever. Além disso\, estudou filosofia e teologia. Isso era raríssimo entre as mulheres\, mesmo entre as nobres de seu tempo. Os livros da época atestam que Matilde possuía inteligência brilhante e grande beleza tanto física quanto de alma. \nCasamento\nA bela Matilde casou-se com apenas catorze anos\, com um duque da Saxônia chamado Henrique. Este\, em pouco tempo veio a se tornar rei da Alemanha\, com o nome de Henrique I. Com o rei\, Matilde viveu um casamento feliz\, que durou vinte anos. \nInfluente sobre o rei\nO reinado de Henrique I foi justo e bom para o povo. Segundo os livros\, a rainha Matilde teve grande influência no reinado do marido\, lutando pela justiça e pela bondade\, sempre nos bastidores do governo. Ela sempre se mostrou cheia de bondade e portadora de grande generosa para com os súditos\, especialmente os pobres e doentes. \nObras
URL:https://diocesederoraima.org.br/evento/santa-matilde/
ATTACH;FMTTYPE=image/jpeg:https://diocesederoraima.org.br/wp-content/uploads/2023/03/14-santa-matilde-santo-do-dia-CN-cancaonova.jpg
END:VEVENT
END:VCALENDAR