BEGIN:VCALENDAR
VERSION:2.0
PRODID:-//Diocese de Roraima - ECPv6.15.17//NONSGML v1.0//EN
CALSCALE:GREGORIAN
METHOD:PUBLISH
X-ORIGINAL-URL:https://diocesederoraima.org.br
X-WR-CALDESC:Eventos para Diocese de Roraima
REFRESH-INTERVAL;VALUE=DURATION:PT1H
X-Robots-Tag:noindex
X-PUBLISHED-TTL:PT1H
BEGIN:VTIMEZONE
TZID:America/Sao_Paulo
BEGIN:STANDARD
TZOFFSETFROM:-0300
TZOFFSETTO:-0300
TZNAME:-03
DTSTART:20220101T000000
END:STANDARD
END:VTIMEZONE
BEGIN:VEVENT
DTSTART;TZID=America/Sao_Paulo:20230421T080000
DTEND;TZID=America/Sao_Paulo:20230422T180000
DTSTAMP:20260425T192807
CREATED:20230419T134027Z
LAST-MODIFIED:20230419T141927Z
UID:2497-1682064000-1682186400@diocesederoraima.org.br
SUMMARY:Conselho Missionário Diocesano
DESCRIPTION:Para você participar deste encontro\, que ocorrerá\, nos dias 21 e 22 deste mês de Abril\, em uma sala pastoral da Cúria Diocesana de Roraima\, inscreva-se neste formulário\, preenchendo as informações abaixo: https://docs.google.com/forms/d/e/1FAIpQLSfExQAPFLbWZmNEENXW5f1mBqZiEtRYAocHZzNwK4jNhu1t2Q/viewform \n 
URL:https://diocesederoraima.org.br/evento/conselho-missionario-diocesano/
LOCATION:PRELAZIA\, rua Bento Brasil\, 613\, Centro\, Boa Vista\, Roraima
ATTACH;FMTTYPE=image/jpeg:https://diocesederoraima.org.br/wp-content/uploads/2023/04/Imagem-do-WhatsApp-de-2023-04-19-as-08.35.29.jpg
END:VEVENT
END:VCALENDAR