BEGIN:VCALENDAR
VERSION:2.0
PRODID:-//Diocese de Roraima - ECPv6.15.17//NONSGML v1.0//EN
CALSCALE:GREGORIAN
METHOD:PUBLISH
X-ORIGINAL-URL:https://diocesederoraima.org.br
X-WR-CALDESC:Eventos para Diocese de Roraima
REFRESH-INTERVAL;VALUE=DURATION:PT1H
X-Robots-Tag:noindex
X-PUBLISHED-TTL:PT1H
BEGIN:VTIMEZONE
TZID:America/Sao_Paulo
BEGIN:STANDARD
TZOFFSETFROM:-0300
TZOFFSETTO:-0300
TZNAME:-03
DTSTART:20220101T000000
END:STANDARD
END:VTIMEZONE
BEGIN:VEVENT
DTSTART;TZID=America/Sao_Paulo:20230427T080000
DTEND;TZID=America/Sao_Paulo:20230428T170000
DTSTAMP:20260425T192814
CREATED:20230427T193722Z
LAST-MODIFIED:20230427T193821Z
UID:2724-1682582400-1682701200@diocesederoraima.org.br
SUMMARY:Encontro de verificação Vocacional
DESCRIPTION:Publico : Jovens a partir de 16 anos em diante e que estejam ou tenham ensino médio\nMais informações : Pe.Vanthuy (95) 991147596
URL:https://diocesederoraima.org.br/evento/encontro-de-verificacao-vocacional/
LOCATION:Reitoria Aparecida\, R. Roberto Costa\, 519\, Boa Vista\, Roraima\, 69306-440
ATTACH;FMTTYPE=image/jpeg:https://diocesederoraima.org.br/wp-content/uploads/2023/04/Imagem-do-WhatsApp-de-2023-04-27-as-14.24.06.jpg
END:VEVENT
BEGIN:VEVENT
DTSTART;TZID=America/Sao_Paulo:20230428T193000
DTEND;TZID=America/Sao_Paulo:20230428T193000
DTSTAMP:20260425T192814
CREATED:20230428T192522Z
LAST-MODIFIED:20230428T192950Z
UID:2714-1682710200-1682710200@diocesederoraima.org.br
SUMMARY:Festejo da padroeira Santa Catarina de Sena
DESCRIPTION:
URL:https://diocesederoraima.org.br/evento/festejo-da-padroeira-sanata-catarina-de-sena/
LOCATION:Estacionamento Gavião\, Av. dos Garimpeiros\, 332\, Boa Vista\, Roraima\, 69317-181\, Brasil
ATTACH;FMTTYPE=image/jpeg:https://diocesederoraima.org.br/wp-content/uploads/2023/04/Imagem-do-WhatsApp-de-2023-04-25-as-10.53.40.jpg
END:VEVENT
BEGIN:VEVENT
DTSTART;TZID=America/Sao_Paulo:20230428T193000
DTEND;TZID=America/Sao_Paulo:20230428T213000
DTSTAMP:20260425T192814
CREATED:20230428T203926Z
LAST-MODIFIED:20230428T211733Z
UID:2745-1682710200-1682717400@diocesederoraima.org.br
SUMMARY:Liderança e gestão paroquial/eclesial
DESCRIPTION:É HOJE!!! LIVE COM CONVIDADOS ESPECIAIS E COM DIREITO A CERTIFICADO DE 10 HORAS: \nCÍCERO PEREIRA DOS SANTOS – LIDERANÇA e Pe. LUZIMAR FONSECA – GESTÃO
URL:https://diocesederoraima.org.br/evento/lideranca-e-gestao-paroquial-eclesial/
ATTACH;FMTTYPE=image/jpeg:https://diocesederoraima.org.br/wp-content/uploads/2023/04/Imagem-do-WhatsApp-de-2023-04-28-as-08.35.04.jpg
END:VEVENT
END:VCALENDAR