BEGIN:VCALENDAR
VERSION:2.0
PRODID:-//Diocese de Roraima - ECPv6.15.17//NONSGML v1.0//EN
CALSCALE:GREGORIAN
METHOD:PUBLISH
X-ORIGINAL-URL:https://diocesederoraima.org.br
X-WR-CALDESC:Eventos para Diocese de Roraima
REFRESH-INTERVAL;VALUE=DURATION:PT1H
X-Robots-Tag:noindex
X-PUBLISHED-TTL:PT1H
BEGIN:VTIMEZONE
TZID:America/Sao_Paulo
BEGIN:STANDARD
TZOFFSETFROM:-0300
TZOFFSETTO:-0300
TZNAME:-03
DTSTART:20220101T000000
END:STANDARD
END:VTIMEZONE
BEGIN:VEVENT
DTSTART;TZID=America/Sao_Paulo:20230505T220000
DTEND;TZID=America/Sao_Paulo:20230506T060000
DTSTAMP:20260425T175742
CREATED:20230502T191951Z
LAST-MODIFIED:20230502T192348Z
UID:2867-1683324000-1683352800@diocesederoraima.org.br
SUMMARY:Vigília MMAE
DESCRIPTION:Unidos\, eles ficam no seio da Virgem e aos pés de Jesus para adorá-Lo. \nA Vigília geralmente se inicia às 22h e estende-se por toda a noite\, com a oração do terço\, momentos de intercessão e adoração eucarística\, pregação e celebração da Santa Missa\, na certeza de que Ele derrama de Seu Coração Eucarístico toda a Sua Misericórdia sobre a humanidade.\nNa madrugada\, os participantes são convidados a sairem pelas ruas das redondezas rezando o terço.
URL:https://diocesederoraima.org.br/evento/vigilia-mmae/
LOCATION:Comunidade Católica Nossa Senhora da Saúde\, Rua estácio melo\, Boa vista\, Roraima\, 69310-068
ATTACH;FMTTYPE=image/png:https://diocesederoraima.org.br/wp-content/uploads/2023/05/Portugues.png
END:VEVENT
BEGIN:VEVENT
DTSTART;TZID=America/Sao_Paulo:20230506T090000
DTEND;TZID=America/Sao_Paulo:20230506T110000
DTSTAMP:20260425T175742
CREATED:20230502T190948Z
LAST-MODIFIED:20230502T190948Z
UID:2858-1683363600-1683370800@diocesederoraima.org.br
SUMMARY:Programa de Formação Lideranças maristas
DESCRIPTION:
URL:https://diocesederoraima.org.br/evento/programa-de-formacao-liderancas-maristas/
LOCATION:Comunidade São João Batista\, Av. Parimé Brasil\, 730 - Caranã\, Boa Vista\, Roraima\, 69317-550\, Brasil
ATTACH;FMTTYPE=image/jpeg:https://diocesederoraima.org.br/wp-content/uploads/2023/05/Imagem-do-WhatsApp-de-2023-05-02-as-11.43.22.jpg
END:VEVENT
END:VCALENDAR