BEGIN:VCALENDAR
VERSION:2.0
PRODID:-//Diocese de Roraima - ECPv6.15.17//NONSGML v1.0//EN
CALSCALE:GREGORIAN
METHOD:PUBLISH
X-WR-CALNAME:Diocese de Roraima
X-ORIGINAL-URL:https://diocesederoraima.org.br
X-WR-CALDESC:Eventos para Diocese de Roraima
REFRESH-INTERVAL;VALUE=DURATION:PT1H
X-Robots-Tag:noindex
X-PUBLISHED-TTL:PT1H
BEGIN:VTIMEZONE
TZID:America/Boa_Vista
BEGIN:STANDARD
TZOFFSETFROM:-0400
TZOFFSETTO:-0400
TZNAME:-04
DTSTART:20220101T000000
END:STANDARD
END:VTIMEZONE
BEGIN:VEVENT
DTSTART;TZID=America/Boa_Vista:20230604T190000
DTEND;TZID=America/Boa_Vista:20230604T190000
DTSTAMP:20260425T162138
CREATED:20230530T230043Z
LAST-MODIFIED:20230531T141327Z
UID:3192-1685905200-1685905200@diocesederoraima.org.br
SUMMARY:Arraiá do Segue-me
DESCRIPTION:Ouça o convite aqui! http://diocesederoraima.org.br/wp-content/uploads/2023/05/WhatsApp-Audio-2023-05-31-at-11.03.38.mpeg \nSalve Francisquinhos\, já estão sabendo? \nVem aí o primeiro arraial do Segue-me São Francisco\, dia 04 de junho no Clareteano\, a partir das 19 horas. Venha se divertir com a gente nessa noite especial\, terá muito forró\, comidas típicas\, quadrilha e BINGO\, com apenas R$10\,00 vc compra uma cartela e concorre à 15 super prêmios\, não fique de fora\, venha com a gente festejar. O valor arrecadado será para ajudar na realização do 10° Segue-me de São Francisco. \nTe esperamos lá! \n 
URL:https://diocesederoraima.org.br/evento/arraia-do-segue-me/
LOCATION:Claretiano – Colégio e Faculdade\, Tv. Antônio Augusto Martins\, 52\, Boa vista\, Roraima\, 69305-270\, Brasil
ATTACH;FMTTYPE=image/jpeg:https://diocesederoraima.org.br/wp-content/uploads/2023/05/Imagem-do-WhatsApp-de-2023-05-29-as-16.40.35.jpg
END:VEVENT
END:VCALENDAR