BEGIN:VCALENDAR
VERSION:2.0
PRODID:-//Diocese de Roraima - ECPv6.15.17//NONSGML v1.0//EN
CALSCALE:GREGORIAN
METHOD:PUBLISH
X-WR-CALNAME:Diocese de Roraima
X-ORIGINAL-URL:https://diocesederoraima.org.br
X-WR-CALDESC:Eventos para Diocese de Roraima
REFRESH-INTERVAL;VALUE=DURATION:PT1H
X-Robots-Tag:noindex
X-PUBLISHED-TTL:PT1H
BEGIN:VTIMEZONE
TZID:America/Boa_Vista
BEGIN:STANDARD
TZOFFSETFROM:-0400
TZOFFSETTO:-0400
TZNAME:-04
DTSTART:20220101T000000
END:STANDARD
END:VTIMEZONE
BEGIN:VEVENT
DTSTART;TZID=America/Boa_Vista:20230616T193000
DTEND;TZID=America/Boa_Vista:20230619T193000
DTSTAMP:20260425T162136
CREATED:20230616T193037Z
LAST-MODIFIED:20230616T193037Z
UID:3412-1686943800-1687203000@diocesederoraima.org.br
SUMMARY:Festa de nossa Senhora dos migrantes
DESCRIPTION:
URL:https://diocesederoraima.org.br/evento/festa-de-nossa-senhora-dos-migrantes/
LOCATION:Comunidade Nossa senhora dos Migrantes\, Av. Mário Homem de Melo\, Boa Vista\, RR\, 69309-198\, Brasil
ATTACH;FMTTYPE=image/png:https://diocesederoraima.org.br/wp-content/uploads/2023/06/Captura-de-tela-2023-06-16-152451.png
END:VEVENT
BEGIN:VEVENT
DTSTART;TZID=America/Boa_Vista:20230619T190000
DTEND;TZID=America/Boa_Vista:20230619T190000
DTSTAMP:20260425T162136
CREATED:20230614T054521Z
LAST-MODIFIED:20230614T054554Z
UID:3307-1687201200-1687201200@diocesederoraima.org.br
SUMMARY:Celebração Eucaristica ( Comunidade nossa senhora dos migrantes )
DESCRIPTION:
URL:https://diocesederoraima.org.br/evento/celebracao-eucaristica-nossa-senhora-dos-migrantes/
LOCATION:Comunidade Nossa senhora dos Migrantes\, Av. Mário Homem de Melo\, Boa Vista\, RR\, 69309-198\, Brasil
ATTACH;FMTTYPE=image/jpeg:https://diocesederoraima.org.br/wp-content/uploads/2023/06/IMG-20230613-WA0034.jpg
END:VEVENT
END:VCALENDAR