BEGIN:VCALENDAR
VERSION:2.0
PRODID:-//Diocese de Roraima - ECPv6.15.17//NONSGML v1.0//EN
CALSCALE:GREGORIAN
METHOD:PUBLISH
X-ORIGINAL-URL:https://diocesederoraima.org.br
X-WR-CALDESC:Eventos para Diocese de Roraima
REFRESH-INTERVAL;VALUE=DURATION:PT1H
X-Robots-Tag:noindex
X-PUBLISHED-TTL:PT1H
BEGIN:VTIMEZONE
TZID:America/Boa_Vista
BEGIN:STANDARD
TZOFFSETFROM:-0400
TZOFFSETTO:-0400
TZNAME:-04
DTSTART:20220101T000000
END:STANDARD
END:VTIMEZONE
BEGIN:VEVENT
DTSTART;TZID=America/Boa_Vista:20230620T193000
DTEND;TZID=America/Boa_Vista:20230620T193000
DTSTAMP:20260425T162329
CREATED:20230616T182755Z
LAST-MODIFIED:20230616T195222Z
UID:3397-1687289400-1687289400@diocesederoraima.org.br
SUMMARY:Celebração Eucarística e Festa Cultural da 38° Semana do Migrante
DESCRIPTION:
URL:https://diocesederoraima.org.br/evento/celebracao-eucaristica-e-festa-cultural-38-semana-do-migrante/
LOCATION:Comunidade José Allamano\, rua Angela Maria jardim\, Boa Vista\, Roraima\, 69300000
ATTACH;FMTTYPE=image/jpeg:https://diocesederoraima.org.br/wp-content/uploads/2023/06/4ad14690-bbf5-4fca-8af5-cc1de576e5c7.jpg
END:VEVENT
END:VCALENDAR