BEGIN:VCALENDAR
VERSION:2.0
PRODID:-//Diocese de Roraima - ECPv6.15.17//NONSGML v1.0//EN
CALSCALE:GREGORIAN
METHOD:PUBLISH
X-WR-CALNAME:Diocese de Roraima
X-ORIGINAL-URL:https://diocesederoraima.org.br
X-WR-CALDESC:Eventos para Diocese de Roraima
REFRESH-INTERVAL;VALUE=DURATION:PT1H
X-Robots-Tag:noindex
X-PUBLISHED-TTL:PT1H
BEGIN:VTIMEZONE
TZID:America/Boa_Vista
BEGIN:STANDARD
TZOFFSETFROM:-0400
TZOFFSETTO:-0400
TZNAME:-04
DTSTART:20220101T000000
END:STANDARD
END:VTIMEZONE
BEGIN:VEVENT
DTSTART;TZID=America/Boa_Vista:20230707T183000
DTEND;TZID=America/Boa_Vista:20230715T220000
DTSTAMP:20260425T145729
CREATED:20230704T154922Z
LAST-MODIFIED:20230704T155448Z
UID:3585-1688754600-1689458400@diocesederoraima.org.br
SUMMARY:Festa de Nossa Senhora do Carmo
DESCRIPTION:
URL:https://diocesederoraima.org.br/evento/festa-de-nossa-senhora-do-carmo/
LOCATION:Paróquia Matriz de Nossa Senhora do Carmo\, R. Bento Brasil\, Boa Vista\, RR\, 69301-050
ATTACH;FMTTYPE=image/jpeg:https://diocesederoraima.org.br/wp-content/uploads/2023/07/Imagem-do-WhatsApp-de-2023-06-26-as-10.15.37.jpg
END:VEVENT
END:VCALENDAR