BEGIN:VCALENDAR
VERSION:2.0
PRODID:-//Diocese de Roraima - ECPv6.15.17//NONSGML v1.0//EN
CALSCALE:GREGORIAN
METHOD:PUBLISH
X-WR-CALNAME:Diocese de Roraima
X-ORIGINAL-URL:https://diocesederoraima.org.br
X-WR-CALDESC:Eventos para Diocese de Roraima
REFRESH-INTERVAL;VALUE=DURATION:PT1H
X-Robots-Tag:noindex
X-PUBLISHED-TTL:PT1H
BEGIN:VTIMEZONE
TZID:America/Boa_Vista
BEGIN:STANDARD
TZOFFSETFROM:-0400
TZOFFSETTO:-0400
TZNAME:-04
DTSTART:20220101T000000
END:STANDARD
END:VTIMEZONE
BEGIN:VEVENT
DTSTART;TZID=America/Boa_Vista:20230825T080000
DTEND;TZID=America/Boa_Vista:20230828T170000
DTSTAMP:20260425T120851
CREATED:20230726T212904Z
LAST-MODIFIED:20230808T212541Z
UID:3943-1692950400-1693242000@diocesederoraima.org.br
SUMMARY:Assembleia Diocesana formativa e eletiva
DESCRIPTION:O Conselho Nacional de Leigos e Leigas do Brasil da Diocese de Roraima – CNLB/RR convoca os cristãos leigos e leigas da Diocese de Roraima para participarem da Assembleia Geral Ordinária\, de caráter formativa e eletiva que se realizará nos dias 25 a 27 de Agosto de 2023\, na Prelazia da Diocese. \n📍As inscrições devem ser feitas até o dia 18/08/23 no link abaixo:\nhttps://forms.office.com/r/Vp1yag6J62 \n📍A Taxa de inscrição é de R$ 50\,00 e o PIX para pagamento é o celular:\n95 99976-0455\nEdney Veras dos Santos\nBanco Inter \n📍A Carta Convite e o Edital de Convocação podem ser encontrados no link a seguir\nhttps://1drv.ms/f/s!ArYH_fvqd-PigQS_k-jj9AMTzmFf?e=VuJi6g
URL:https://diocesederoraima.org.br/evento/assembleia-diocesana-formativa-e-eletiva/
LOCATION:PRELAZIA\, rua Bento Brasil\, 613\, Centro\, Boa Vista\, Roraima
ATTACH;FMTTYPE=image/jpeg:https://diocesederoraima.org.br/wp-content/uploads/2023/07/Imagem-do-WhatsApp-de-2023-07-25-as-09.34.13.jpg
END:VEVENT
END:VCALENDAR