BEGIN:VCALENDAR
VERSION:2.0
PRODID:-//Diocese de Roraima - ECPv6.15.17//NONSGML v1.0//EN
CALSCALE:GREGORIAN
METHOD:PUBLISH
X-WR-CALNAME:Diocese de Roraima
X-ORIGINAL-URL:https://diocesederoraima.org.br
X-WR-CALDESC:Eventos para Diocese de Roraima
REFRESH-INTERVAL;VALUE=DURATION:PT1H
X-Robots-Tag:noindex
X-PUBLISHED-TTL:PT1H
BEGIN:VTIMEZONE
TZID:America/Boa_Vista
BEGIN:STANDARD
TZOFFSETFROM:-0400
TZOFFSETTO:-0400
TZNAME:-04
DTSTART:20230101T000000
END:STANDARD
END:VTIMEZONE
BEGIN:VEVENT
DTSTART;TZID=America/Boa_Vista:20240607T193000
DTEND;TZID=America/Boa_Vista:20240607T193000
DTSTAMP:20260424T234508
CREATED:20240605T182557Z
LAST-MODIFIED:20240605T182557Z
UID:6719-1717788600-1717788600@diocesederoraima.org.br
SUMMARY:Festa do Sagrado Coração de Jesus
DESCRIPTION:
URL:https://diocesederoraima.org.br/evento/festa-do-sagrado-coracao-de-jesus/
LOCATION:Comunidade Sagrado COração de Jesus\, R. Jairo de Andrade Lima\, Boa Vista\, Roraima\, 69313-328\, Brasil
ATTACH;FMTTYPE=image/jpeg:https://diocesederoraima.org.br/wp-content/uploads/2024/06/WhatsApp-Image-2024-06-04-at-10.52.50-1.jpeg
END:VEVENT
END:VCALENDAR