BEGIN:VCALENDAR
VERSION:2.0
PRODID:-//Diocese de Roraima - ECPv6.15.17//NONSGML v1.0//EN
CALSCALE:GREGORIAN
METHOD:PUBLISH
X-WR-CALNAME:Diocese de Roraima
X-ORIGINAL-URL:https://diocesederoraima.org.br
X-WR-CALDESC:Eventos para Diocese de Roraima
REFRESH-INTERVAL;VALUE=DURATION:PT1H
X-Robots-Tag:noindex
X-PUBLISHED-TTL:PT1H
BEGIN:VTIMEZONE
TZID:America/Boa_Vista
BEGIN:STANDARD
TZOFFSETFROM:-0400
TZOFFSETTO:-0400
TZNAME:-04
DTSTART:20230101T000000
END:STANDARD
END:VTIMEZONE
BEGIN:VEVENT
DTSTART;TZID=America/Boa_Vista:20240711T190000
DTEND;TZID=America/Boa_Vista:20240711T220000
DTSTAMP:20260424T222446
CREATED:20240710T175523Z
LAST-MODIFIED:20240710T175540Z
UID:6839-1720724400-1720735200@diocesederoraima.org.br
SUMMARY:Formação da Consciência Vocacional Preparação para o Mês Vocacional
DESCRIPTION:
URL:https://diocesederoraima.org.br/evento/formacao-da-consciencia-vocacional-preparacao-para-o-mes-vocacional/
LOCATION:Casa Da |Caridade\, : R. Floriano Peixoto\, 402\, Boa Vista\, Roraima\, 69301-320\, Brasil
ATTACH;FMTTYPE=image/jpeg:https://diocesederoraima.org.br/wp-content/uploads/2024/07/WhatsApp-Image-2024-07-10-at-11.36.49.jpeg
END:VEVENT
END:VCALENDAR