BEGIN:VCALENDAR
VERSION:2.0
PRODID:-//Diocese de Roraima - ECPv6.15.17//NONSGML v1.0//EN
CALSCALE:GREGORIAN
METHOD:PUBLISH
X-WR-CALNAME:Diocese de Roraima
X-ORIGINAL-URL:https://diocesederoraima.org.br
X-WR-CALDESC:Eventos para Diocese de Roraima
REFRESH-INTERVAL;VALUE=DURATION:PT1H
X-Robots-Tag:noindex
X-PUBLISHED-TTL:PT1H
BEGIN:VTIMEZONE
TZID:America/Boa_Vista
BEGIN:STANDARD
TZOFFSETFROM:-0400
TZOFFSETTO:-0400
TZNAME:-04
DTSTART:20230101T000000
END:STANDARD
END:VTIMEZONE
BEGIN:VEVENT
DTSTART;TZID=America/Boa_Vista:20240712T080000
DTEND;TZID=America/Boa_Vista:20240712T170000
DTSTAMP:20260424T222446
CREATED:20240712T160119Z
LAST-MODIFIED:20240712T160119Z
UID:6854-1720771200-1720803600@diocesederoraima.org.br
SUMMARY:Festa de Nossa Senhora do Carmo
DESCRIPTION:“não desprezeis nossas súplicas\, em nossas necessidades”.
URL:https://diocesederoraima.org.br/evento/festa-de-nossa-senhora-do-carmo-2/
LOCATION:Paróquia Matriz de Nossa Senhora do Carmo\, R. Bento Brasil\, Boa Vista\, RR\, 69301-050
ATTACH;FMTTYPE=image/jpeg:https://diocesederoraima.org.br/wp-content/uploads/2024/07/WhatsApp-Image-2024-07-01-at-11.29.08-scaled.jpeg
END:VEVENT
END:VCALENDAR