BEGIN:VCALENDAR
VERSION:2.0
PRODID:-//Diocese de Roraima - ECPv6.15.17//NONSGML v1.0//EN
CALSCALE:GREGORIAN
METHOD:PUBLISH
X-ORIGINAL-URL:https://diocesederoraima.org.br
X-WR-CALDESC:Eventos para Diocese de Roraima
REFRESH-INTERVAL;VALUE=DURATION:PT1H
X-Robots-Tag:noindex
X-PUBLISHED-TTL:PT1H
BEGIN:VTIMEZONE
TZID:America/Boa_Vista
BEGIN:STANDARD
TZOFFSETFROM:-0400
TZOFFSETTO:-0400
TZNAME:-04
DTSTART:20230101T000000
END:STANDARD
END:VTIMEZONE
BEGIN:VEVENT
DTSTART;TZID=America/Boa_Vista:20240713T080000
DTEND;TZID=America/Boa_Vista:20240713T170000
DTSTAMP:20260424T222543
CREATED:20240712T154933Z
LAST-MODIFIED:20240712T154933Z
UID:6851-1720857600-1720890000@diocesederoraima.org.br
SUMMARY:CDE - CDE (Conselho Diocesano de Evangelização )
DESCRIPTION:
URL:https://diocesederoraima.org.br/evento/cde-cde-conselho-diocesano-de-evangelizacao/
LOCATION:Claretiano – Colégio e Faculdade\, Tv. Antônio Augusto Martins\, 52\, Boa vista\, Roraima\, 69305-270\, Brasil
ATTACH;FMTTYPE=image/png:https://diocesederoraima.org.br/wp-content/uploads/2024/07/Post-instagram-dia-de-Nossa-Senhora-do-Perpetuo-Socorro-moderno-branco-e-bege-1.png
END:VEVENT
END:VCALENDAR