BEGIN:VCALENDAR
VERSION:2.0
PRODID:-//Diocese de Roraima - ECPv6.15.17//NONSGML v1.0//EN
CALSCALE:GREGORIAN
METHOD:PUBLISH
X-WR-CALNAME:Diocese de Roraima
X-ORIGINAL-URL:https://diocesederoraima.org.br
X-WR-CALDESC:Eventos para Diocese de Roraima
REFRESH-INTERVAL;VALUE=DURATION:PT1H
X-Robots-Tag:noindex
X-PUBLISHED-TTL:PT1H
BEGIN:VTIMEZONE
TZID:America/Boa_Vista
BEGIN:STANDARD
TZOFFSETFROM:-0400
TZOFFSETTO:-0400
TZNAME:-04
DTSTART:20230101T000000
END:STANDARD
END:VTIMEZONE
BEGIN:VEVENT
DTSTART;TZID=America/Boa_Vista:20240724T160000
DTEND;TZID=America/Boa_Vista:20240724T180000
DTSTAMP:20260424T222416
CREATED:20240722T145344Z
LAST-MODIFIED:20240722T145344Z
UID:7480-1721836800-1721844000@diocesederoraima.org.br
SUMMARY:Envio das Missionárias da Caridade
DESCRIPTION:Nesta quarta feira de 24/07 às 16h00 na igreja Nossa Senhora da Consolta\, faremos a missa de envio da Missionárias da Caridade\, que atendendo o chamado da vida que clama no sul do País\, partem por um tempo.\nDesde já convido a cada uma e cada um a se fazer presente em presença e comunhão.\nAbraço fraterno e amigo\nCoordenação da CRB Roraima
URL:https://diocesederoraima.org.br/evento/envio-das-missionarias-da-caridade/
ATTACH;FMTTYPE=image/jpeg:https://diocesederoraima.org.br/wp-content/uploads/2024/07/WhatsApp-Image-2024-07-22-at-10.38.45-1.jpeg
END:VEVENT
END:VCALENDAR