BEGIN:VCALENDAR
VERSION:2.0
PRODID:-//Diocese de Roraima - ECPv6.15.17//NONSGML v1.0//EN
CALSCALE:GREGORIAN
METHOD:PUBLISH
X-WR-CALNAME:Diocese de Roraima
X-ORIGINAL-URL:https://diocesederoraima.org.br
X-WR-CALDESC:Eventos para Diocese de Roraima
REFRESH-INTERVAL;VALUE=DURATION:PT1H
X-Robots-Tag:noindex
X-PUBLISHED-TTL:PT1H
BEGIN:VTIMEZONE
TZID:America/Boa_Vista
BEGIN:STANDARD
TZOFFSETFROM:-0400
TZOFFSETTO:-0400
TZNAME:-04
DTSTART:20230101T000000
END:STANDARD
END:VTIMEZONE
BEGIN:VEVENT
DTSTART;TZID=America/Boa_Vista:20240803T080000
DTEND;TZID=America/Boa_Vista:20240817T180000
DTSTAMP:20260424T210506
CREATED:20240712T135124Z
LAST-MODIFIED:20240712T141930Z
UID:6843-1722672000-1723917600@diocesederoraima.org.br
SUMMARY:Agenda da Semana Nacional da Familia 2024
DESCRIPTION:https://docs.google.com/forms/d/e/1FAIpQLScFsEISrmA3O8I58dFyyKgr0CP1V5vX5u8Jb_10qTjuvNG8xg/viewform
URL:https://diocesederoraima.org.br/evento/agenda-da-semana-da-familia/
ATTACH;FMTTYPE=image/jpeg:https://diocesederoraima.org.br/wp-content/uploads/2024/07/WhatsApp-Image-2024-07-12-at-09.06.01-1.jpeg
END:VEVENT
END:VCALENDAR