BEGIN:VCALENDAR
VERSION:2.0
PRODID:-//Diocese de Roraima - ECPv6.15.17//NONSGML v1.0//EN
CALSCALE:GREGORIAN
METHOD:PUBLISH
X-WR-CALNAME:Diocese de Roraima
X-ORIGINAL-URL:https://diocesederoraima.org.br
X-WR-CALDESC:Eventos para Diocese de Roraima
REFRESH-INTERVAL;VALUE=DURATION:PT1H
X-Robots-Tag:noindex
X-PUBLISHED-TTL:PT1H
BEGIN:VTIMEZONE
TZID:America/Boa_Vista
BEGIN:STANDARD
TZOFFSETFROM:-0400
TZOFFSETTO:-0400
TZNAME:-04
DTSTART:20230101T000000
END:STANDARD
END:VTIMEZONE
BEGIN:VEVENT
DTSTART;TZID=America/Boa_Vista:20240825T170000
DTEND;TZID=America/Boa_Vista:20240825T170000
DTSTAMP:20260424T210458
CREATED:20240823T150356Z
LAST-MODIFIED:20240823T150356Z
UID:8432-1724605200-1724605200@diocesederoraima.org.br
SUMMARY:Encontro de Jovens - Filhos do Rei
DESCRIPTION:
URL:https://diocesederoraima.org.br/evento/encontro-de-jovens-filhos-do-rei/
LOCATION:Catedral Cristo Redentor\, Praça do Centro Cívico\, 133\, BOA VISTA\, RR\, 69301-380\, Brasil
ATTACH;FMTTYPE=image/jpeg:https://diocesederoraima.org.br/wp-content/uploads/2024/08/Snapinsta.app_456137391_8151313378247752_3243843090435445494_n_1080.jpg
END:VEVENT
BEGIN:VEVENT
DTSTART;TZID=America/Boa_Vista:20240825T180000
DTEND;TZID=America/Boa_Vista:20240825T200000
DTSTAMP:20260424T210458
CREATED:20240823T205606Z
LAST-MODIFIED:20240823T205606Z
UID:8440-1724608800-1724616000@diocesederoraima.org.br
SUMMARY:Missa em Celebração pelo dia dos leigos e leigas
DESCRIPTION:
URL:https://diocesederoraima.org.br/evento/missa-em-celebracao-pelo-dia-dos-leigos-e-leigas/
LOCATION:Comunidade Santissima Trindade\, R. Antônio Pinheiro Galvão\, 1347 - Buritis\, Boa Vista\, RR\, 69309-209
ATTACH;FMTTYPE=image/jpeg:https://diocesederoraima.org.br/wp-content/uploads/2024/08/WhatsApp-Image-2024-08-21-at-18.04.56.jpeg
END:VEVENT
END:VCALENDAR