BEGIN:VCALENDAR
VERSION:2.0
PRODID:-//Diocese de Roraima - ECPv6.15.17//NONSGML v1.0//EN
CALSCALE:GREGORIAN
METHOD:PUBLISH
X-WR-CALNAME:Diocese de Roraima
X-ORIGINAL-URL:https://diocesederoraima.org.br
X-WR-CALDESC:Eventos para Diocese de Roraima
REFRESH-INTERVAL;VALUE=DURATION:PT1H
X-Robots-Tag:noindex
X-PUBLISHED-TTL:PT1H
BEGIN:VTIMEZONE
TZID:America/Boa_Vista
BEGIN:STANDARD
TZOFFSETFROM:-0400
TZOFFSETTO:-0400
TZNAME:-04
DTSTART:20230101T000000
END:STANDARD
END:VTIMEZONE
BEGIN:VEVENT
DTSTART;TZID=America/Boa_Vista:20240915T180000
DTEND;TZID=America/Boa_Vista:20240924T190000
DTSTAMP:20260424T194544
CREATED:20240915T134123Z
LAST-MODIFIED:20240916T141755Z
UID:8688-1726423200-1727204400@diocesederoraima.org.br
SUMMARY:Festa de Nossa Senhora do Livramento Caracaraí
DESCRIPTION:
URL:https://diocesederoraima.org.br/evento/festa-de-nossa-senhora-do-livramento-caracarai/
LOCATION:Paróquia de São José Operário\, R. Sebastião Diniz\, 257\, 69360-000
ATTACH;FMTTYPE=image/png:https://diocesederoraima.org.br/wp-content/uploads/2024/09/Anotacao-2024-09-16-093744.png
END:VEVENT
END:VCALENDAR