BEGIN:VCALENDAR
VERSION:2.0
PRODID:-//Diocese de Roraima - ECPv6.15.17//NONSGML v1.0//EN
CALSCALE:GREGORIAN
METHOD:PUBLISH
X-WR-CALNAME:Diocese de Roraima
X-ORIGINAL-URL:https://diocesederoraima.org.br
X-WR-CALDESC:Eventos para Diocese de Roraima
REFRESH-INTERVAL;VALUE=DURATION:PT1H
X-Robots-Tag:noindex
X-PUBLISHED-TTL:PT1H
BEGIN:VTIMEZONE
TZID:America/Boa_Vista
BEGIN:STANDARD
TZOFFSETFROM:-0400
TZOFFSETTO:-0400
TZNAME:-04
DTSTART:20230101T000000
END:STANDARD
END:VTIMEZONE
BEGIN:VEVENT
DTSTART;TZID=America/Boa_Vista:20240927T193000
DTEND;TZID=America/Boa_Vista:20241006T190000
DTSTAMP:20260424T194532
CREATED:20240916T160459Z
LAST-MODIFIED:20240916T160459Z
UID:8702-1727465400-1728241200@diocesederoraima.org.br
SUMMARY:Festa de Santa Teresinha
DESCRIPTION:
URL:https://diocesederoraima.org.br/evento/festa-de-santa-teresinha-2/
LOCATION:Comunidade Santa Teresinha\, R. Maj. Ecildon Pinto\, 1260 Laura Moreira\, Boa Vista\, Roraima\, 69318-100
ATTACH;FMTTYPE=image/png:https://diocesederoraima.org.br/wp-content/uploads/2024/09/Anotacao-2024-08-28-151519.png
END:VEVENT
BEGIN:VEVENT
DTSTART;TZID=America/Boa_Vista:20240928T080000
DTEND;TZID=America/Boa_Vista:20240928T120000
DTSTAMP:20260424T194532
CREATED:20240919T140528Z
LAST-MODIFIED:20240919T140528Z
UID:8783-1727510400-1727524800@diocesederoraima.org.br
SUMMARY:Formação da Pastoral da Comunicação
DESCRIPTION:
URL:https://diocesederoraima.org.br/evento/formacao-da-pastoral-da-comunicacao/
LOCATION:Rádio Monte Roraima 107\,9 FM\, R. Floriano Peixoto\, 402/A\, Boa Vista\, RR\, 69301-320\, Brasil
ATTACH;FMTTYPE=image/png:https://diocesederoraima.org.br/wp-content/uploads/2024/09/White-Green-Modern-Personal-Branding-Workshop-Series-Instagram-Post-1080-x-1080-px-1.png
END:VEVENT
END:VCALENDAR