BEGIN:VCALENDAR
VERSION:2.0
PRODID:-//Diocese de Roraima - ECPv6.15.17//NONSGML v1.0//EN
CALSCALE:GREGORIAN
METHOD:PUBLISH
X-ORIGINAL-URL:https://diocesederoraima.org.br
X-WR-CALDESC:Eventos para Diocese de Roraima
REFRESH-INTERVAL;VALUE=DURATION:PT1H
X-Robots-Tag:noindex
X-PUBLISHED-TTL:PT1H
BEGIN:VTIMEZONE
TZID:America/Boa_Vista
BEGIN:STANDARD
TZOFFSETFROM:-0400
TZOFFSETTO:-0400
TZNAME:-04
DTSTART:20230101T000000
END:STANDARD
END:VTIMEZONE
BEGIN:VEVENT
DTSTART;TZID=America/Boa_Vista:20241027T080000
DTEND;TZID=America/Boa_Vista:20241027T170000
DTSTAMP:20260424T170515
CREATED:20241017T141953Z
LAST-MODIFIED:20241017T141953Z
UID:9390-1730016000-1730048400@diocesederoraima.org.br
SUMMARY:DNJ
DESCRIPTION:
URL:https://diocesederoraima.org.br/evento/dnj/
ATTACH;FMTTYPE=image/jpeg:https://diocesederoraima.org.br/wp-content/uploads/2024/10/Snapinsta.app_463203158_513259401671762_6195210869802073886_n_1080-1.jpg
END:VEVENT
END:VCALENDAR