BEGIN:VCALENDAR
VERSION:2.0
PRODID:-//Diocese de Roraima - ECPv6.15.17//NONSGML v1.0//EN
CALSCALE:GREGORIAN
METHOD:PUBLISH
X-ORIGINAL-URL:https://diocesederoraima.org.br
X-WR-CALDESC:Eventos para Diocese de Roraima
REFRESH-INTERVAL;VALUE=DURATION:PT1H
X-Robots-Tag:noindex
X-PUBLISHED-TTL:PT1H
BEGIN:VTIMEZONE
TZID:America/Boa_Vista
BEGIN:STANDARD
TZOFFSETFROM:-0400
TZOFFSETTO:-0400
TZNAME:-04
DTSTART:20230101T000000
END:STANDARD
END:VTIMEZONE
BEGIN:VEVENT
DTSTART;TZID=America/Boa_Vista:20241206T080000
DTEND;TZID=America/Boa_Vista:20241212T170000
DTSTAMP:20260424T153901
CREATED:20241210T123106Z
LAST-MODIFIED:20241210T123106Z
UID:9731-1733472000-1734022800@diocesederoraima.org.br
SUMMARY:Festa Nossa Senhora Guadalupe
DESCRIPTION:
URL:https://diocesederoraima.org.br/evento/festa-nossa-senhora-guadalupe/
ATTACH;FMTTYPE=image/jpeg:https://diocesederoraima.org.br/wp-content/uploads/2024/12/WhatsApp-Image-2024-12-09-at-08.03.14-2.jpeg
END:VEVENT
END:VCALENDAR