BEGIN:VCALENDAR
VERSION:2.0
PRODID:-//Diocese de Roraima - ECPv6.15.17//NONSGML v1.0//EN
CALSCALE:GREGORIAN
METHOD:PUBLISH
X-WR-CALNAME:Diocese de Roraima
X-ORIGINAL-URL:https://diocesederoraima.org.br
X-WR-CALDESC:Eventos para Diocese de Roraima
REFRESH-INTERVAL;VALUE=DURATION:PT1H
X-Robots-Tag:noindex
X-PUBLISHED-TTL:PT1H
BEGIN:VTIMEZONE
TZID:America/Boa_Vista
BEGIN:STANDARD
TZOFFSETFROM:-0400
TZOFFSETTO:-0400
TZNAME:-04
DTSTART:20240101T000000
END:STANDARD
END:VTIMEZONE
BEGIN:VEVENT
DTSTART;TZID=America/Boa_Vista:20250110T080000
DTEND;TZID=America/Boa_Vista:20250116T170000
DTSTAMP:20260424T141552
CREATED:20250114T152241Z
LAST-MODIFIED:20250114T152241Z
UID:9826-1736496000-1737046800@diocesederoraima.org.br
SUMMARY:FESTA DE SÃO SEBASTIÃO
DESCRIPTION:
URL:https://diocesederoraima.org.br/evento/festa-de-sao-sebastiao/
LOCATION:Comunidade de São Sebastião\, Av. João Pereira de Melo - Centro\, Boa Vista\, Roraima\, 69306-690\, Brasil
ATTACH;FMTTYPE=image/jpeg:https://diocesederoraima.org.br/wp-content/uploads/2025/01/Snapinsta.app_473146400_1817684749002440_4623098465728633047_n_1080.jpg
END:VEVENT
END:VCALENDAR