BEGIN:VCALENDAR
VERSION:2.0
PRODID:-//Diocese de Roraima - ECPv6.15.17//NONSGML v1.0//EN
CALSCALE:GREGORIAN
METHOD:PUBLISH
X-WR-CALNAME:Diocese de Roraima
X-ORIGINAL-URL:https://diocesederoraima.org.br
X-WR-CALDESC:Eventos para Diocese de Roraima
REFRESH-INTERVAL;VALUE=DURATION:PT1H
X-Robots-Tag:noindex
X-PUBLISHED-TTL:PT1H
BEGIN:VTIMEZONE
TZID:America/Boa_Vista
BEGIN:STANDARD
TZOFFSETFROM:-0400
TZOFFSETTO:-0400
TZNAME:-04
DTSTART:20240101T000000
END:STANDARD
END:VTIMEZONE
BEGIN:VEVENT
DTSTART;TZID=America/Boa_Vista:20250301T180000
DTEND;TZID=America/Boa_Vista:20250331T220000
DTSTAMP:20260424T112542
CREATED:20250311T163913Z
LAST-MODIFIED:20250311T163913Z
UID:10203-1740852000-1743458400@diocesederoraima.org.br
SUMMARY:Programação da Quaresma - Santuário Aparecida
DESCRIPTION:
URL:https://diocesederoraima.org.br/evento/programacao-da-quaresma-santuario-aparecida/
ATTACH;FMTTYPE=image/jpeg:https://diocesederoraima.org.br/wp-content/uploads/2025/03/WhatsApp-Image-2025-03-11-at-09.32.55-scaled.jpeg
END:VEVENT
BEGIN:VEVENT
DTSTART;TZID=America/Boa_Vista:20250307T180000
DTEND;TZID=America/Boa_Vista:20250309T130000
DTSTAMP:20260424T112542
CREATED:20250206T181934Z
LAST-MODIFIED:20250206T181934Z
UID:9987-1741370400-1741525200@diocesederoraima.org.br
SUMMARY:Assembleia das Pastorais Sociais
DESCRIPTION:
URL:https://diocesederoraima.org.br/evento/assembleia-das-pastorais-sociais/
LOCATION:ufrr\, Av. Cap. Ene Garcês\, 2413 - Aeroporto\, Boa Vista\, Boa Vista\, RR\, 69310-045\, Brazil
ATTACH;FMTTYPE=image/jpeg:https://diocesederoraima.org.br/wp-content/uploads/2025/02/WhatsApp-Image-2025-02-06-at-13.13.43.jpeg
END:VEVENT
BEGIN:VEVENT
DTSTART;TZID=America/Boa_Vista:20250308T080000
DTEND;TZID=America/Boa_Vista:20250308T170000
DTSTAMP:20260424T112542
CREATED:20250226T135059Z
LAST-MODIFIED:20250226T135059Z
UID:10099-1741420800-1741453200@diocesederoraima.org.br
SUMMARY:Assembleia Diocesana Avaliativa da Pastoral da Criança
DESCRIPTION:
URL:https://diocesederoraima.org.br/evento/assembleia-diocesana-avaliativa-da-pastoral-da-crianca/
LOCATION:Casa Da |Caridade\, : R. Floriano Peixoto\, 402\, Boa Vista\, Roraima\, 69301-320\, Brasil
END:VEVENT
END:VCALENDAR