BEGIN:VCALENDAR
VERSION:2.0
PRODID:-//Diocese de Roraima - ECPv6.15.17//NONSGML v1.0//EN
CALSCALE:GREGORIAN
METHOD:PUBLISH
X-ORIGINAL-URL:https://diocesederoraima.org.br
X-WR-CALDESC:Eventos para Diocese de Roraima
REFRESH-INTERVAL;VALUE=DURATION:PT1H
X-Robots-Tag:noindex
X-PUBLISHED-TTL:PT1H
BEGIN:VTIMEZONE
TZID:America/Boa_Vista
BEGIN:STANDARD
TZOFFSETFROM:-0400
TZOFFSETTO:-0400
TZNAME:-04
DTSTART:20240101T000000
END:STANDARD
END:VTIMEZONE
BEGIN:VEVENT
DTSTART;TZID=America/Boa_Vista:20250301T180000
DTEND;TZID=America/Boa_Vista:20250331T220000
DTSTAMP:20260424T112906
CREATED:20250311T163913Z
LAST-MODIFIED:20250311T163913Z
UID:10203-1740852000-1743458400@diocesederoraima.org.br
SUMMARY:Programação da Quaresma - Santuário Aparecida
DESCRIPTION:
URL:https://diocesederoraima.org.br/evento/programacao-da-quaresma-santuario-aparecida/
ATTACH;FMTTYPE=image/jpeg:https://diocesederoraima.org.br/wp-content/uploads/2025/03/WhatsApp-Image-2025-03-11-at-09.32.55-scaled.jpeg
END:VEVENT
BEGIN:VEVENT
DTSTART;TZID=America/Boa_Vista:20250322T100000
DTEND;TZID=America/Boa_Vista:20250322T120000
DTSTAMP:20260424T112906
CREATED:20250319T144844Z
LAST-MODIFIED:20250319T144844Z
UID:10257-1742637600-1742644800@diocesederoraima.org.br
SUMMARY:Reunião Coordenadores Coroinhas e Acólitos
DESCRIPTION:A Comissão Diocesana de Liturgia \nConvida os Coordenadores dos Coroinhas e Acólitos – das Áreas missionárias e Páróquias para uma reunião de escuta.\nCom objetivo conhecer o trabalho que é feito nas comunidades\, propor uma coordenação diocesana e um projeto de formação. \nO encontro será: \n📅 22 de março de 2025\n⏰às 10h00\nSantuário de Nossa Senhora Aparecida\n📍 Rua: Roberto Costa\, 519 – Aparecida
URL:https://diocesederoraima.org.br/evento/reuniao-coordenadores-coroinhas-e-acolitos/
LOCATION:Reitoria Aparecida\, R. Roberto Costa\, 519\, Boa Vista\, Roraima\, 69306-440
END:VEVENT
END:VCALENDAR