BEGIN:VCALENDAR
VERSION:2.0
PRODID:-//Diocese de Roraima - ECPv6.15.17//NONSGML v1.0//EN
CALSCALE:GREGORIAN
METHOD:PUBLISH
X-WR-CALNAME:Diocese de Roraima
X-ORIGINAL-URL:https://diocesederoraima.org.br
X-WR-CALDESC:Eventos para Diocese de Roraima
REFRESH-INTERVAL;VALUE=DURATION:PT1H
X-Robots-Tag:noindex
X-PUBLISHED-TTL:PT1H
BEGIN:VTIMEZONE
TZID:America/Boa_Vista
BEGIN:STANDARD
TZOFFSETFROM:-0400
TZOFFSETTO:-0400
TZNAME:-04
DTSTART:20240101T000000
END:STANDARD
END:VTIMEZONE
BEGIN:VEVENT
DTSTART;TZID=America/Boa_Vista:20250705T080000
DTEND;TZID=America/Boa_Vista:20250706T150000
DTSTAMP:20260424T053649
CREATED:20250523T134111Z
LAST-MODIFIED:20250523T134111Z
UID:10986-1751702400-1751814000@diocesederoraima.org.br
SUMMARY:2º Curso de Comunicação - A missão do Agente da Comunicação
DESCRIPTION:Vem aí o 2º Curso de Comunicação da Diocese de Roraima!\n📅 Dias 05 e 06 de julho de 2025\nLocal: Centro de Formação Prelazia\n📍 Rua Bento Brasil\, 613 -Centro – Boa Vista (RR)\n🎓 Tema: A Missão do Agente da Comunicação\nAssessor: Prof. Dr. Ricardo Alvarenga\n💰 Investimento: R$ 100\,00 (com almoço e lanche incluídos!)
URL:https://diocesederoraima.org.br/evento/2o-curso-de-comunicacao-a-missao-do-agente-da-comunicacao/
LOCATION:PRELAZIA\, rua Bento Brasil\, 613\, Centro\, Boa Vista\, Roraima
END:VEVENT
END:VCALENDAR