BEGIN:VCALENDAR
VERSION:2.0
PRODID:-//Diocese de Roraima - ECPv6.15.17//NONSGML v1.0//EN
CALSCALE:GREGORIAN
METHOD:PUBLISH
X-ORIGINAL-URL:https://diocesederoraima.org.br
X-WR-CALDESC:Eventos para Diocese de Roraima
REFRESH-INTERVAL;VALUE=DURATION:PT1H
X-Robots-Tag:noindex
X-PUBLISHED-TTL:PT1H
BEGIN:VTIMEZONE
TZID:America/Boa_Vista
BEGIN:STANDARD
TZOFFSETFROM:-0400
TZOFFSETTO:-0400
TZNAME:-04
DTSTART:20240101T000000
END:STANDARD
END:VTIMEZONE
BEGIN:VEVENT
DTSTART;TZID=America/Boa_Vista:20250710T190000
DTEND;TZID=America/Boa_Vista:20250723T213000
DTSTAMP:20260424T070315
CREATED:20250707T213226Z
LAST-MODIFIED:20250707T213226Z
UID:11242-1752174000-1753306200@diocesederoraima.org.br
SUMMARY:Missa de Ação de Graças - 55 anos de ECC
DESCRIPTION:👩‍❤️‍👨 10 de julho – Celebramos 55 anos do ECC no Brasil! \nO Encontro de Casais com Cristo completa 55 anos de missão\, amor e serviço no Brasil — e queremos celebrar esse momento especial com você! \nTodos os casais encontristas estão convidados para estarem conosco nesta comemoração! \nData: 10/07/2025 🕠 Horário: 19h00 \nLocal: Reitoria Aparecida Endereço: 🧃🥧 Após a missa lanche: partilhado 👕👚 \nVista sua camisa do ECC e mostre com alegria que você também faz parte dessa história de fé e compromisso com a família cristã! Esperamos vocês! Conselho Diocesano do ECC/RR Cremos na Vida\, Cremos na Família\, Cremos no Amor!
URL:https://diocesederoraima.org.br/evento/missa-de-acao-de-gracas-55-anos-de-ecc/
LOCATION:Reitoria Aparecida\, R. Roberto Costa\, 519\, Boa Vista\, Roraima\, 69306-440
END:VEVENT
END:VCALENDAR