BEGIN:VCALENDAR
VERSION:2.0
PRODID:-//Diocese de Roraima - ECPv6.15.17//NONSGML v1.0//EN
CALSCALE:GREGORIAN
METHOD:PUBLISH
X-ORIGINAL-URL:https://diocesederoraima.org.br
X-WR-CALDESC:Eventos para Diocese de Roraima
REFRESH-INTERVAL;VALUE=DURATION:PT1H
X-Robots-Tag:noindex
X-PUBLISHED-TTL:PT1H
BEGIN:VTIMEZONE
TZID:America/Boa_Vista
BEGIN:STANDARD
TZOFFSETFROM:-0400
TZOFFSETTO:-0400
TZNAME:-04
DTSTART:20240101T000000
END:STANDARD
END:VTIMEZONE
BEGIN:VEVENT
DTSTART;TZID=America/Boa_Vista:20251011T080000
DTEND;TZID=America/Boa_Vista:20251011T170000
DTSTAMP:20260424T014231
CREATED:20251007T180108Z
LAST-MODIFIED:20251007T180108Z
UID:11964-1760169600-1760202000@diocesederoraima.org.br
SUMMARY:Doação de Sangue
DESCRIPTION:
URL:https://diocesederoraima.org.br/evento/doacao-de-sangue/
LOCATION:HEMOCENTRO\, Av. Brg. Eduardo Gomes\, 3418\, Boa Vista\, RR\, 69310-005
ATTACH;FMTTYPE=image/jpeg:https://diocesederoraima.org.br/wp-content/uploads/2025/10/WhatsApp-Image-2025-10-06-at-09.36.24.jpeg
END:VEVENT
END:VCALENDAR