BEGIN:VCALENDAR
VERSION:2.0
PRODID:-//Diocese de Roraima - ECPv6.15.17//NONSGML v1.0//EN
CALSCALE:GREGORIAN
METHOD:PUBLISH
X-ORIGINAL-URL:https://diocesederoraima.org.br
X-WR-CALDESC:Eventos para Diocese de Roraima
REFRESH-INTERVAL;VALUE=DURATION:PT1H
X-Robots-Tag:noindex
X-PUBLISHED-TTL:PT1H
BEGIN:VTIMEZONE
TZID:America/Boa_Vista
BEGIN:STANDARD
TZOFFSETFROM:-0400
TZOFFSETTO:-0400
TZNAME:-04
DTSTART:20240101T000000
END:STANDARD
END:VTIMEZONE
BEGIN:VEVENT
DTSTART;TZID=America/Boa_Vista:20251012T080000
DTEND;TZID=America/Boa_Vista:20251012T220000
DTSTAMP:20260424T013713
CREATED:20251007T180654Z
LAST-MODIFIED:20251007T180654Z
UID:11968-1760256000-1760306400@diocesederoraima.org.br
SUMMARY:FESTA DE NOSSA SENHORA APARECIDA – 2025 DIOCESE DE RORAIMA BOA VISTA – RR
DESCRIPTION:FESTA DE NOSSA SENHORA APARECIDA – 2025DIOCESE DE RORAIMABOA VISTA – RR \nTema: “Com Maria\, Mãe da Esperança\, conhecer Jesus e cuidar da vida” \n\nPROGRAMAÇÃO – 11 OUTUBRO\nVÉSPERA DA FESTA DE NOSSA SENHORA APARECIDA (SÁBADO)16h – Missa dos enfermos18h – Missa – Cerimônia da troca do manto de Nossa Senhora Aparecida \n\nPROGRAMAÇÃO – 12 OUTUBRO\nMISSAS NO SANTUÁRIO DE NOSSA SENHORA APARECIDA05h\, 07h\, 09h\, 11h\, 15h e 19h – Missa \n06h30 – Passeio ciclístico do Santuário até a Igreja da Consolata06:30 às 10:30 – Café da manhã17h – Romaria – Saída da Igreja Consolata até o Santuário19h – Missa no pátio do SantuárioQuermesse o dia todo \n\n📞 (95) 99164-6436📸 @SANTUARIOAPARECIDARR \nLocal: Santuário Nossa Senhora AparecidaRua Roberto Costa\, 519 – Bairro Aparecida
URL:https://diocesederoraima.org.br/evento/festa-de-nossa-senhora-aparecida-2025-diocese-de-roraima-boa-vista-rr/
ATTACH;FMTTYPE=image/jpeg:https://diocesederoraima.org.br/wp-content/uploads/2025/10/WhatsApp-Image-2025-10-07-at-08.21.13.jpeg
END:VEVENT
END:VCALENDAR