BEGIN:VCALENDAR
VERSION:2.0
PRODID:-//Diocese de Roraima - ECPv6.15.17//NONSGML v1.0//EN
CALSCALE:GREGORIAN
METHOD:PUBLISH
X-ORIGINAL-URL:https://diocesederoraima.org.br
X-WR-CALDESC:Eventos para Diocese de Roraima
REFRESH-INTERVAL;VALUE=DURATION:PT1H
X-Robots-Tag:noindex
X-PUBLISHED-TTL:PT1H
BEGIN:VTIMEZONE
TZID:America/Boa_Vista
BEGIN:STANDARD
TZOFFSETFROM:-0400
TZOFFSETTO:-0400
TZNAME:-04
DTSTART:20250101T000000
END:STANDARD
END:VTIMEZONE
BEGIN:VEVENT
DTSTART;TZID=America/Boa_Vista:20260128T080000
DTEND;TZID=America/Boa_Vista:20260131T170000
DTSTAMP:20260423T184112
CREATED:20260112T155551Z
LAST-MODIFIED:20260112T155551Z
UID:12383-1769587200-1769878800@diocesederoraima.org.br
SUMMARY:ORDENAÇÃO PRESBITERAL  Diácono Djavan André da Silva
DESCRIPTION:📅 31 de janeiro de 2026⏰ 18h00📍 Igreja Catedral Cristo Redentor📌 Praça do Centro Cívico – Boa Vista/RR \nPRIMEIRA MISSA\n📅 01 de fevereiro de 2026⏰ 09h00📍 Comunidade Nossa Senhora de FátimaRua Rio Guaíba\, 511 – Bela Vista – Boa Vista/RR \n📅 08 de fevereiro de 2026⏰ 09h00📍 Comunidade Indígena MaturucaRegião das Serras – Terra Indígena Raposa Serra do Sol
URL:https://diocesederoraima.org.br/evento/ordenacao-presbiteral-diacono-djavan-andre-da-silva/
LOCATION:Catedral Cristo Redentor\, Praça do Centro Cívico\, 133\, BOA VISTA\, RR\, 69301-380\, Brasil
ATTACH;FMTTYPE=image/png:https://diocesederoraima.org.br/wp-content/uploads/2026/01/Data-Ordenacao-presbiteral-1280-x-760-px.png
END:VEVENT
END:VCALENDAR