BEGIN:VCALENDAR
VERSION:2.0
PRODID:-//Diocese de Roraima - ECPv6.15.17//NONSGML v1.0//EN
CALSCALE:GREGORIAN
METHOD:PUBLISH
X-WR-CALNAME:Diocese de Roraima
X-ORIGINAL-URL:https://diocesederoraima.org.br
X-WR-CALDESC:Eventos para Diocese de Roraima
REFRESH-INTERVAL;VALUE=DURATION:PT1H
X-Robots-Tag:noindex
X-PUBLISHED-TTL:PT1H
BEGIN:VTIMEZONE
TZID:America/Boa_Vista
BEGIN:STANDARD
TZOFFSETFROM:-0400
TZOFFSETTO:-0400
TZNAME:-04
DTSTART:20250101T000000
END:STANDARD
END:VTIMEZONE
BEGIN:VEVENT
DTSTART;TZID=America/Boa_Vista:20260214T080000
DTEND;TZID=America/Boa_Vista:20260217T170000
DTSTAMP:20260423T184110
CREATED:20260210T213101Z
LAST-MODIFIED:20260212T182529Z
UID:12569-1771056000-1771347600@diocesederoraima.org.br
SUMMARY:XXXII Ruah de Deus
DESCRIPTION:
URL:https://diocesederoraima.org.br/evento/xxxii-ruah-de-deus/
LOCATION:Vila Olimpica\, Av. Raimundo Rodrigues Coelho\, 80\, Boa Vista\, Estado\, 69313-418
ATTACH;FMTTYPE=image/jpeg:https://diocesederoraima.org.br/wp-content/uploads/2026/02/o-melhor-carnaval-o-mais-aguardado-esta-chegando🔥🎉Prepare-o-seu-coracao-para-tudo-o-que-Deus.jpg
END:VEVENT
BEGIN:VEVENT
DTSTART;TZID=America/Boa_Vista:20260214T080000
DTEND;TZID=America/Boa_Vista:20260217T170000
DTSTAMP:20260423T184110
CREATED:20260212T182712Z
LAST-MODIFIED:20260212T182712Z
UID:12592-1771056000-1771347600@diocesederoraima.org.br
SUMMARY:Formação Diocesana em Liturgia
DESCRIPTION:Taxa de Inscrição:\nR$ 70\,00 (Setenta reais para quem mora em Boa Vista).R$ 35\,00 (Trinta e cinco reais para quem mora nos outros municípios). \n\nDos Critérios:\n– Ter no mínimo 14 anos de idade (para os Coroinhas).– Disponibilidade para participar integralmente da formação. \n\nOrientações:\n1 – Trazer sua garrafa de água e um lanche para a partilha.2 – Em vista da organização\, confirme sua participação no número WhatsApp:(95) 99139-5085 Angélica Alves;(95) 99145-3232 Beatriz Gomes. \n\nPagamento através do QR-Code:\nDiocese de RoraimaAgência: 2617-4Conta Poupança: 58.182-8Variação: 51 \nChave Pix:projetos@diocesederoraima.org.br
URL:https://diocesederoraima.org.br/evento/formacao-diocesana-em-liturgia/
LOCATION:PRELAZIA\, rua Bento Brasil\, 613\, Centro\, Boa Vista\, Roraima
ATTACH;FMTTYPE=image/jpeg:https://diocesederoraima.org.br/wp-content/uploads/2026/02/formacao-diocesana-em-liturgia-ff56b.jpeg
END:VEVENT
END:VCALENDAR