BEGIN:VCALENDAR
VERSION:2.0
PRODID:-//Diocese de Roraima - ECPv6.15.17//NONSGML v1.0//EN
CALSCALE:GREGORIAN
METHOD:PUBLISH
X-WR-CALNAME:Diocese de Roraima
X-ORIGINAL-URL:https://diocesederoraima.org.br
X-WR-CALDESC:Eventos para Diocese de Roraima
REFRESH-INTERVAL;VALUE=DURATION:PT1H
X-Robots-Tag:noindex
X-PUBLISHED-TTL:PT1H
BEGIN:VTIMEZONE
TZID:America/Boa_Vista
BEGIN:STANDARD
TZOFFSETFROM:-0400
TZOFFSETTO:-0400
TZNAME:-04
DTSTART:20230101T000000
END:STANDARD
END:VTIMEZONE
BEGIN:VEVENT
DTSTART;TZID=America/Boa_Vista:20240621T193000
DTEND;TZID=America/Boa_Vista:20240624T180000
DTSTAMP:20260425T164439
CREATED:20240610T201202Z
LAST-MODIFIED:20240610T201202Z
UID:6742-1718998200-1719252000@diocesederoraima.org.br
SUMMARY:ARRAIAL DO SÃO JOÃO BATISTA
DESCRIPTION:
URL:https://diocesederoraima.org.br/evento/arraial-do-sao-joao-batista/
LOCATION:Comunidade São João Batista\, Av. Parimé Brasil\, 730 - Caranã\, Boa Vista\, Roraima\, 69317-550\, Brasil
CATEGORIES:Festejo
ATTACH;FMTTYPE=image/jpeg:https://diocesederoraima.org.br/wp-content/uploads/2024/06/WhatsApp-Image-2024-06-10-at-13.23.11.jpeg
END:VEVENT
END:VCALENDAR