BEGIN:VCALENDAR
VERSION:2.0
PRODID:-//Diocese de Roraima - ECPv6.15.17//NONSGML v1.0//EN
CALSCALE:GREGORIAN
METHOD:PUBLISH
X-ORIGINAL-URL:https://diocesederoraima.org.br
X-WR-CALDESC:Eventos para Diocese de Roraima
REFRESH-INTERVAL;VALUE=DURATION:PT1H
X-Robots-Tag:noindex
X-PUBLISHED-TTL:PT1H
BEGIN:VTIMEZONE
TZID:America/Boa_Vista
BEGIN:STANDARD
TZOFFSETFROM:-0400
TZOFFSETTO:-0400
TZNAME:-04
DTSTART:20240101T000000
END:STANDARD
END:VTIMEZONE
BEGIN:VEVENT
DTSTART;TZID=America/Boa_Vista:20250831T143000
DTEND;TZID=America/Boa_Vista:20250831T180000
DTSTAMP:20260424T084423
CREATED:20250722T194000Z
LAST-MODIFIED:20250722T194000Z
UID:11444-1756650600-1756663200@diocesederoraima.org.br
SUMMARY:Jubileu Catequistas 2025
DESCRIPTION:14h30 – Paróquia São Francisco \n\n\n\n\nConcentração\, memória e partilha \n\n\n\n\n17h – Saída da peregrinação \n\n\n\n\nSaída da Peregrinação em direção ao Santuário de Nossa Senhora Aparecida \n\n\n\n\n18h – Missa do Jubileu dos Catequistas \n\n\n\n\nSantuário de Nossa Senhora Aparecida
URL:https://diocesederoraima.org.br/evento/jubileu-catequistas-2025/
LOCATION:Paróquia São Francisco das Chagas\, Av. Cap. Júlio Bezerra\, 775 - São Francisco\, 69305-025\, RR\, 69305-025\, Brasil
ATTACH;FMTTYPE=image/png:https://diocesederoraima.org.br/wp-content/uploads/2025/07/Jubileu-Catequistas-03.png
END:VEVENT
BEGIN:VEVENT
DTSTART;TZID=America/Boa_Vista:20250925T140000
DTEND;TZID=America/Boa_Vista:20250928T120000
DTSTAMP:20260424T084423
CREATED:20250508T121518Z
LAST-MODIFIED:20250508T121518Z
UID:10806-1758808800-1759060800@diocesederoraima.org.br
SUMMARY:14º MULTICOM - Comunicação e Ecologia Integral
DESCRIPTION:4º Mutirão Brasileiro de Comunicação (Muticom)\nTema: Comunicação Ecologia Integral: transformação e sustentabilidade justa \nData: 25 a 28 de setembro de 2025 \nLocal: Manaus\, Amazonas – Centro de Convenções do Amazonas Vasco Vasques
URL:https://diocesederoraima.org.br/evento/14o-multicom-comunicacao-e-ecologia-integral/
LOCATION:Centro de Convenções do Amazonas Vasco Vasques – Pavilhão 2\, Avenida Constantino Nery\, 5001\, Pavilhão 2 Flores\, Manaus\, Amazonas\, 69058795
END:VEVENT
BEGIN:VEVENT
DTSTART;TZID=America/Boa_Vista:20251011T080000
DTEND;TZID=America/Boa_Vista:20251011T170000
DTSTAMP:20260424T084423
CREATED:20251007T180108Z
LAST-MODIFIED:20251007T180108Z
UID:11964-1760169600-1760202000@diocesederoraima.org.br
SUMMARY:Doação de Sangue
DESCRIPTION:
URL:https://diocesederoraima.org.br/evento/doacao-de-sangue/
LOCATION:HEMOCENTRO\, Av. Brg. Eduardo Gomes\, 3418\, Boa Vista\, RR\, 69310-005
ATTACH;FMTTYPE=image/jpeg:https://diocesederoraima.org.br/wp-content/uploads/2025/10/WhatsApp-Image-2025-10-06-at-09.36.24.jpeg
END:VEVENT
BEGIN:VEVENT
DTSTART;TZID=America/Boa_Vista:20251012T080000
DTEND;TZID=America/Boa_Vista:20251012T220000
DTSTAMP:20260424T084423
CREATED:20251007T180654Z
LAST-MODIFIED:20251007T180654Z
UID:11968-1760256000-1760306400@diocesederoraima.org.br
SUMMARY:FESTA DE NOSSA SENHORA APARECIDA – 2025 DIOCESE DE RORAIMA BOA VISTA – RR
DESCRIPTION:FESTA DE NOSSA SENHORA APARECIDA – 2025DIOCESE DE RORAIMABOA VISTA – RR \nTema: “Com Maria\, Mãe da Esperança\, conhecer Jesus e cuidar da vida” \n\nPROGRAMAÇÃO – 11 OUTUBRO\nVÉSPERA DA FESTA DE NOSSA SENHORA APARECIDA (SÁBADO)16h – Missa dos enfermos18h – Missa – Cerimônia da troca do manto de Nossa Senhora Aparecida \n\nPROGRAMAÇÃO – 12 OUTUBRO\nMISSAS NO SANTUÁRIO DE NOSSA SENHORA APARECIDA05h\, 07h\, 09h\, 11h\, 15h e 19h – Missa \n06h30 – Passeio ciclístico do Santuário até a Igreja da Consolata06:30 às 10:30 – Café da manhã17h – Romaria – Saída da Igreja Consolata até o Santuário19h – Missa no pátio do SantuárioQuermesse o dia todo \n\n📞 (95) 99164-6436📸 @SANTUARIOAPARECIDARR \nLocal: Santuário Nossa Senhora AparecidaRua Roberto Costa\, 519 – Bairro Aparecida
URL:https://diocesederoraima.org.br/evento/festa-de-nossa-senhora-aparecida-2025-diocese-de-roraima-boa-vista-rr/
ATTACH;FMTTYPE=image/jpeg:https://diocesederoraima.org.br/wp-content/uploads/2025/10/WhatsApp-Image-2025-10-07-at-08.21.13.jpeg
END:VEVENT
BEGIN:VEVENT
DTSTART;TZID=America/Boa_Vista:20251102T063000
DTEND;TZID=America/Boa_Vista:20251102T170000
DTSTAMP:20260424T084423
CREATED:20251028T202515Z
LAST-MODIFIED:20251028T202515Z
UID:12003-1762065000-1762102800@diocesederoraima.org.br
SUMMARY:MISSA DOS FINADOS
DESCRIPTION:
URL:https://diocesederoraima.org.br/evento/missa-dos-finados/
ATTACH;FMTTYPE=image/jpeg:https://diocesederoraima.org.br/wp-content/uploads/2025/10/WhatsApp-Image-2025-10-27-at-10.21.02.jpeg
END:VEVENT
BEGIN:VEVENT
DTSTART;TZID=America/Boa_Vista:20251115T080000
DTEND;TZID=America/Boa_Vista:20251115T170000
DTSTAMP:20260424T084423
CREATED:20251113T130824Z
LAST-MODIFIED:20251113T130824Z
UID:12046-1763193600-1763226000@diocesederoraima.org.br
SUMMARY:Encontro Diocesano do Apostolado da Oração da Diocese de Roraima
DESCRIPTION:
URL:https://diocesederoraima.org.br/evento/encontro-diocesano-do-apostolado-da-oracao-da-diocese-de-roraima/
LOCATION:Claretiano – Colégio e Faculdade\, Tv. Antônio Augusto Martins\, 52\, Boa vista\, Roraima\, 69305-270\, Brasil
ATTACH;FMTTYPE=image/jpeg:https://diocesederoraima.org.br/wp-content/uploads/2025/11/573323444_17860938513520753_521002073382153117_n.jpg
END:VEVENT
BEGIN:VEVENT
DTSTART;TZID=America/Boa_Vista:20251119T190000
DTEND;TZID=America/Boa_Vista:20251122T193000
DTSTAMP:20260424T084423
CREATED:20251113T132251Z
LAST-MODIFIED:20251113T132251Z
UID:12049-1763578800-1763839800@diocesederoraima.org.br
SUMMARY:Festejo de Santa Cecília 2025
DESCRIPTION:
URL:https://diocesederoraima.org.br/evento/festejo-de-santa-cecilia-2025/
ATTACH;FMTTYPE=image/jpeg:https://diocesederoraima.org.br/wp-content/uploads/2025/11/WhatsApp-Image-2025-11-11-at-17.49.56.jpeg
END:VEVENT
BEGIN:VEVENT
DTSTART;TZID=America/Boa_Vista:20251208T080000
DTEND;TZID=America/Boa_Vista:20251208T200000
DTSTAMP:20260424T084423
CREATED:20251208T131338Z
LAST-MODIFIED:20251208T131338Z
UID:12171-1765180800-1765224000@diocesederoraima.org.br
SUMMARY:FESTEJO DE NOSSA SENHORA Imaculada Conceição - TEMA: Eis aqui a serva do Senhor. (Lc 1\,38)
DESCRIPTION:
URL:https://diocesederoraima.org.br/evento/festejo-de-nossa-senhora-imaculada-conceicao-tema-eis-aqui-a-serva-do-senhor-lc-138/
LOCATION:cOMUNIDADE IMACULADA CONCEIÇÃO\, Rua Raimundo Penafort\, nº 446 – Buritis\, Boa Vista\, RR\, 69309-165
ATTACH;FMTTYPE=image/jpeg:https://diocesederoraima.org.br/wp-content/uploads/2025/12/WhatsApp-Image-2025-11-25-at-09.44.05.jpeg
END:VEVENT
BEGIN:VEVENT
DTSTART;TZID=America/Boa_Vista:20260111T183000
DTEND;TZID=America/Boa_Vista:20260120T170000
DTSTAMP:20260424T084423
CREATED:20260112T155016Z
LAST-MODIFIED:20260112T155016Z
UID:12380-1768156200-1768928400@diocesederoraima.org.br
SUMMARY:Festa de São Sebastião\, Protetor da Fé\, Peregrino da Esperança
DESCRIPTION:São SebastiãoProtetor da Fé\, Peregrino da Esperança \n\n“A esperança em Deus renova nossas forças.”(Is 40\, 31) \n\nPROGRAMAÇÃO\nNovenário – 11/01 a 19/01 \n\n\nSegunda a sexta: 18h30 \n\n\nSábado: 07h30 \n\n\nDomingo: nas comunidades da paróquia \n\n\nDia de São Sebastião – 20/01 \n\n\n17h – Procissão (saída da capela) \n\n\n18h – Santa Missa \n\n\nLogo após: quermesse\, música ao vivo e o grande Bingo com mais de R$ 17 mil em premiações
URL:https://diocesederoraima.org.br/evento/festa-de-sao-sebastiao-protetor-da-fe-peregrino-da-esperanca/
LOCATION:Comunidade de São Sebastião\, Av. João Pereira de Melo - Centro\, Boa Vista\, Roraima\, 69306-690\, Brasil
ATTACH;FMTTYPE=image/png:https://diocesederoraima.org.br/wp-content/uploads/2026/01/✨-Festa-de-Sao-Sebastiao-2026✨De-11-a-20-de-janeiro_-nossa-comunidade-se-reune-em-oracao-e-aleg.png
END:VEVENT
BEGIN:VEVENT
DTSTART;TZID=America/Boa_Vista:20260121T080000
DTEND;TZID=America/Boa_Vista:20260124T170000
DTSTAMP:20260424T084423
CREATED:20260113T145403Z
LAST-MODIFIED:20260113T145403Z
UID:12411-1768982400-1769274000@diocesederoraima.org.br
SUMMARY:Festa de São paulo apostolo
DESCRIPTION:
URL:https://diocesederoraima.org.br/evento/festa-de-sao-paulo-apostolo/
LOCATION:Comunidade São Paulo\, Avenida São Paulo\, 324 - Bairro dos Estados\, Boa Vista\, Roraima\, Brasil
ATTACH;FMTTYPE=image/jpeg:https://diocesederoraima.org.br/wp-content/uploads/2026/01/WhatsApp-Image-2026-01-12-at-18.54.35.jpeg
END:VEVENT
BEGIN:VEVENT
DTSTART;TZID=America/Boa_Vista:20260128T080000
DTEND;TZID=America/Boa_Vista:20260131T170000
DTSTAMP:20260424T084423
CREATED:20260112T155551Z
LAST-MODIFIED:20260112T155551Z
UID:12383-1769587200-1769878800@diocesederoraima.org.br
SUMMARY:ORDENAÇÃO PRESBITERAL  Diácono Djavan André da Silva
DESCRIPTION:📅 31 de janeiro de 2026⏰ 18h00📍 Igreja Catedral Cristo Redentor📌 Praça do Centro Cívico – Boa Vista/RR \nPRIMEIRA MISSA\n📅 01 de fevereiro de 2026⏰ 09h00📍 Comunidade Nossa Senhora de FátimaRua Rio Guaíba\, 511 – Bela Vista – Boa Vista/RR \n📅 08 de fevereiro de 2026⏰ 09h00📍 Comunidade Indígena MaturucaRegião das Serras – Terra Indígena Raposa Serra do Sol
URL:https://diocesederoraima.org.br/evento/ordenacao-presbiteral-diacono-djavan-andre-da-silva/
LOCATION:Catedral Cristo Redentor\, Praça do Centro Cívico\, 133\, BOA VISTA\, RR\, 69301-380\, Brasil
ATTACH;FMTTYPE=image/png:https://diocesederoraima.org.br/wp-content/uploads/2026/01/Data-Ordenacao-presbiteral-1280-x-760-px.png
END:VEVENT
BEGIN:VEVENT
DTSTART;TZID=America/Boa_Vista:20260207T180000
DTEND;TZID=America/Boa_Vista:20260207T233000
DTSTAMP:20260424T084423
CREATED:20260203T132008Z
LAST-MODIFIED:20260203T132008Z
UID:12546-1770487200-1770507000@diocesederoraima.org.br
SUMMARY:13º Festa das Coomunidades
DESCRIPTION:
URL:https://diocesederoraima.org.br/evento/13o-festa-das-coomunidades/
LOCATION:ÁREA MISSIONÁRIA SÃO RAIMUNDO NONATO\, R. Sólon Rodrigues Pessoa\, 1873\, Boa Vista\, Roraima\, 69316-645\, Brasil
ATTACH;FMTTYPE=image/png:https://diocesederoraima.org.br/wp-content/uploads/2026/02/VIDEO_no-final-do-recorte-Anuncio-para-YouTube-paisagem.png
END:VEVENT
BEGIN:VEVENT
DTSTART;TZID=America/Boa_Vista:20260214T080000
DTEND;TZID=America/Boa_Vista:20260217T170000
DTSTAMP:20260424T084423
CREATED:20260210T213101Z
LAST-MODIFIED:20260212T182529Z
UID:12569-1771056000-1771347600@diocesederoraima.org.br
SUMMARY:XXXII Ruah de Deus
DESCRIPTION:
URL:https://diocesederoraima.org.br/evento/xxxii-ruah-de-deus/
LOCATION:Vila Olimpica\, Av. Raimundo Rodrigues Coelho\, 80\, Boa Vista\, Estado\, 69313-418
ATTACH;FMTTYPE=image/jpeg:https://diocesederoraima.org.br/wp-content/uploads/2026/02/o-melhor-carnaval-o-mais-aguardado-esta-chegando🔥🎉Prepare-o-seu-coracao-para-tudo-o-que-Deus.jpg
END:VEVENT
BEGIN:VEVENT
DTSTART;TZID=America/Boa_Vista:20260214T080000
DTEND;TZID=America/Boa_Vista:20260217T170000
DTSTAMP:20260424T084423
CREATED:20260212T182712Z
LAST-MODIFIED:20260212T182712Z
UID:12592-1771056000-1771347600@diocesederoraima.org.br
SUMMARY:Formação Diocesana em Liturgia
DESCRIPTION:Taxa de Inscrição:\nR$ 70\,00 (Setenta reais para quem mora em Boa Vista).R$ 35\,00 (Trinta e cinco reais para quem mora nos outros municípios). \n\nDos Critérios:\n– Ter no mínimo 14 anos de idade (para os Coroinhas).– Disponibilidade para participar integralmente da formação. \n\nOrientações:\n1 – Trazer sua garrafa de água e um lanche para a partilha.2 – Em vista da organização\, confirme sua participação no número WhatsApp:(95) 99139-5085 Angélica Alves;(95) 99145-3232 Beatriz Gomes. \n\nPagamento através do QR-Code:\nDiocese de RoraimaAgência: 2617-4Conta Poupança: 58.182-8Variação: 51 \nChave Pix:projetos@diocesederoraima.org.br
URL:https://diocesederoraima.org.br/evento/formacao-diocesana-em-liturgia/
LOCATION:PRELAZIA\, rua Bento Brasil\, 613\, Centro\, Boa Vista\, Roraima
ATTACH;FMTTYPE=image/jpeg:https://diocesederoraima.org.br/wp-content/uploads/2026/02/formacao-diocesana-em-liturgia-ff56b.jpeg
END:VEVENT
BEGIN:VEVENT
DTSTART;TZID=America/Boa_Vista:20260221T080000
DTEND;TZID=America/Boa_Vista:20260221T170000
DTSTAMP:20260424T084423
CREATED:20260220T154817Z
LAST-MODIFIED:20260220T155831Z
UID:12632-1771660800-1771693200@diocesederoraima.org.br
SUMMARY:Conselho Diocesano de Evangelização
DESCRIPTION:Carta Convocatória do CDE 21 de Fevereiro de 2026 (1)
URL:https://diocesederoraima.org.br/evento/conselho-diocesano-de-evangelizacao/
LOCATION:PRELAZIA\, rua Bento Brasil\, 613\, Centro\, Boa Vista\, Roraima
END:VEVENT
BEGIN:VEVENT
DTSTART;TZID=America/Boa_Vista:20260221T143000
DTEND;TZID=America/Boa_Vista:20260221T170000
DTSTAMP:20260424T084423
CREATED:20260220T151033Z
LAST-MODIFIED:20260220T151033Z
UID:12629-1771684200-1771693200@diocesederoraima.org.br
SUMMARY:Formação Espiritualidade para Encenação da Paixão de Cristo
DESCRIPTION:
URL:https://diocesederoraima.org.br/evento/formacao-espiritualidade-para-encenacao-da-paixao-de-cristo/
LOCATION:ÁREA MISSIONÁRIA SÃO RAIMUNDO NONATO\, R. Sólon Rodrigues Pessoa\, 1873\, Boa Vista\, Roraima\, 69316-645\, Brasil
ATTACH;FMTTYPE=image/jpeg:https://diocesederoraima.org.br/wp-content/uploads/2026/02/SaveClip.App_628761755_17983715891950919_4345585474466620006_n.jpg
END:VEVENT
BEGIN:VEVENT
DTSTART;TZID=America/Boa_Vista:20260307T080000
DTEND;TZID=America/Boa_Vista:20260328T170000
DTSTAMP:20260424T084423
CREATED:20260212T183010Z
LAST-MODIFIED:20260212T183010Z
UID:12595-1772870400-1774717200@diocesederoraima.org.br
SUMMARY:📖✨ Escola de Teologia Pastoral Pe. Calleri – Inscrições Abertas! ✨📖
DESCRIPTION:
URL:https://diocesederoraima.org.br/evento/%f0%9f%93%96%e2%9c%a8-escola-de-teologia-pastoral-pe-calleri-inscricoes-abertas-%e2%9c%a8%f0%9f%93%96/
LOCATION:PRELAZIA\, rua Bento Brasil\, 613\, Centro\, Boa Vista\, Roraima
ATTACH;FMTTYPE=image/jpeg:https://diocesederoraima.org.br/wp-content/uploads/2026/02/WhatsApp-Image-2026-02-12-at-08.23.26.jpeg
END:VEVENT
BEGIN:VEVENT
DTSTART;TZID=America/Boa_Vista:20260318T080000
DTEND;TZID=America/Boa_Vista:20260318T170000
DTSTAMP:20260424T084423
CREATED:20260318T195737Z
LAST-MODIFIED:20260318T195737Z
UID:12808-1773820800-1773853200@diocesederoraima.org.br
SUMMARY:42ª edição da Paixão de Cristo de Mucajaí
DESCRIPTION:
URL:https://diocesederoraima.org.br/evento/42a-edicao-da-paixao-de-cristo-de-mucajai/
LOCATION:Cidade Cenográfica Estevão dos Santos\, Av. Firmino Azevedo\, 455\, Mucajaí\, 69340-000
ATTACH;FMTTYPE=image/jpeg:https://diocesederoraima.org.br/wp-content/uploads/2026/03/WhatsApp-Image-2026-03-18-at-14.52.53.jpeg
END:VEVENT
BEGIN:VEVENT
DTSTART;TZID=America/Boa_Vista:20260321T060000
DTEND;TZID=America/Boa_Vista:20260321T080000
DTSTAMP:20260424T084423
CREATED:20260225T100045Z
LAST-MODIFIED:20260225T154703Z
UID:12671-1774072800-1774080000@diocesederoraima.org.br
SUMMARY:I CORRIDA SÃO JOSÉ 5KM
DESCRIPTION:
URL:https://diocesederoraima.org.br/evento/i-corrida-sao-jose-5km/
LOCATION:Paróquia de São Mateus\, R. da Bacabeira\, 664 - Caçari\,\, Boa vista\, RR\, 69307-717
ATTACH;FMTTYPE=image/jpeg:https://diocesederoraima.org.br/wp-content/uploads/2026/02/WhatsApp-Image-2026-02-20-at-11.14.39-1.jpeg
END:VEVENT
BEGIN:VEVENT
DTSTART;TZID=America/Boa_Vista:20260326T080000
DTEND;TZID=America/Boa_Vista:20260327T170000
DTSTAMP:20260424T084423
CREATED:20260225T145245Z
LAST-MODIFIED:20260225T151012Z
UID:12668-1774512000-1774630800@diocesederoraima.org.br
SUMMARY:MISSÃO BAIXO RIO BRANCO
DESCRIPTION:
URL:https://diocesederoraima.org.br/evento/missao-baixo-rio-branco/
LOCATION:Paróquia de São José Operário\, R. Sebastião Diniz\, 257\, 69360-000
ATTACH;FMTTYPE=image/jpeg:https://diocesederoraima.org.br/wp-content/uploads/2026/02/WhatsApp-Image-2026-02-23-at-10.42.06.jpeg
END:VEVENT
BEGIN:VEVENT
DTSTART;TZID=America/Boa_Vista:20260523T080000
DTEND;TZID=America/Boa_Vista:20260524T120000
DTSTAMP:20260424T084423
CREATED:20260413T151442Z
LAST-MODIFIED:20260413T151442Z
UID:12879-1779523200-1779624000@diocesederoraima.org.br
SUMMARY:Terceiro Curso de Comunicação da Diocese de Roraima
DESCRIPTION:
URL:https://diocesederoraima.org.br/evento/terceiro-curso-de-comunicacao-da-diocese-de-roraima/
ATTACH;FMTTYPE=image/jpeg:https://diocesederoraima.org.br/wp-content/uploads/2026/04/Ola-pasconeiros-comunicadores-e-jornalistasEsta-chegando-o-Terceiro-Curso-de-Comunicacao-da-D.jpg
END:VEVENT
END:VCALENDAR