BEGIN:VCALENDAR
VERSION:2.0
PRODID:-//Diocese de Roraima - ECPv6.15.17//NONSGML v1.0//EN
CALSCALE:GREGORIAN
METHOD:PUBLISH
X-WR-CALNAME:Diocese de Roraima
X-ORIGINAL-URL:https://diocesederoraima.org.br
X-WR-CALDESC:Eventos para Diocese de Roraima
REFRESH-INTERVAL;VALUE=DURATION:PT1H
X-Robots-Tag:noindex
X-PUBLISHED-TTL:PT1H
BEGIN:VTIMEZONE
TZID:America/Boa_Vista
BEGIN:STANDARD
TZOFFSETFROM:-0400
TZOFFSETTO:-0400
TZNAME:-04
DTSTART:20220101T000000
END:STANDARD
END:VTIMEZONE
BEGIN:VTIMEZONE
TZID:America/Sao_Paulo
BEGIN:STANDARD
TZOFFSETFROM:-0300
TZOFFSETTO:-0300
TZNAME:-03
DTSTART:20220101T000000
END:STANDARD
END:VTIMEZONE
BEGIN:VEVENT
DTSTART;TZID=America/Boa_Vista:20240208T190000
DTEND;TZID=America/Boa_Vista:20240208T203000
DTSTAMP:20260424T120313
CREATED:20240206T201250Z
LAST-MODIFIED:20240206T201250Z
UID:6143-1707418800-1707424200@diocesederoraima.org.br
SUMMARY:Missa de Envio Dom Vanthuy Neto
DESCRIPTION:
URL:https://diocesederoraima.org.br/evento/missa-de-envio-dom-vanthuy-neto/
LOCATION:Reitoria Aparecida\, R. Roberto Costa\, 519\, Boa Vista\, Roraima\, 69306-440
END:VEVENT
BEGIN:VEVENT
DTSTART;TZID=America/Boa_Vista:20240204T083000
DTEND;TZID=America/Boa_Vista:20240204T083000
DTSTAMP:20260424T120313
CREATED:20240108T144523Z
LAST-MODIFIED:20240108T150018Z
UID:5465-1707035400-1707035400@diocesederoraima.org.br
SUMMARY:ORDENAÇÃO EPISCOPAL DO PRESBÍTERO Raimundo Vanthuy Neto
DESCRIPTION:
URL:https://diocesederoraima.org.br/evento/ordenacao-episcopal-do-presbitero-raimundo-vanthuy-neto/
LOCATION:Ginásio Poliesportivo Vicente Ítalo Feola (Totozão)\, Av. Cap. Ene Garcês\, 2160\, Boa Vista\, RR\, 69305-555
END:VEVENT
BEGIN:VEVENT
DTSTART;TZID=America/Boa_Vista:20240122T193000
DTEND;TZID=America/Boa_Vista:20240125T193000
DTSTAMP:20260424T120313
CREATED:20240116T182707Z
LAST-MODIFIED:20240116T182758Z
UID:5991-1705951800-1706211000@diocesederoraima.org.br
SUMMARY:Festa da Conversão de  São Paulo Apóstolo
DESCRIPTION:
URL:https://diocesederoraima.org.br/evento/festa-da-conversao-de-sao-paulo-apostolo/
LOCATION:Roraima
END:VEVENT
BEGIN:VEVENT
DTSTART;TZID=America/Boa_Vista:20240111T080000
DTEND;TZID=America/Boa_Vista:20240120T170000
DTSTAMP:20260424T120313
CREATED:20240111T211638Z
LAST-MODIFIED:20240111T211638Z
UID:5914-1704960000-1705770000@diocesederoraima.org.br
SUMMARY:Festejo de  São Sebastião! 🌟
DESCRIPTION:  \n 
URL:https://diocesederoraima.org.br/evento/festejo-de-sao-sebastiao-%f0%9f%8c%9f/
LOCATION:comunidade sao sebastião\, Av. João Pereira de Melo - Centro\, Boa Vista\, RR\, 69306-690
ATTACH;FMTTYPE=image/png:https://diocesederoraima.org.br/wp-content/uploads/2024/01/4.png
END:VEVENT
BEGIN:VEVENT
DTSTART;TZID=America/Boa_Vista:20231118T073000
DTEND;TZID=America/Boa_Vista:20231119T170000
DTSTAMP:20260424T120313
CREATED:20231116T183113Z
LAST-MODIFIED:20231116T183128Z
UID:5289-1700292600-1700413200@diocesederoraima.org.br
SUMMARY:Encontro Regional Norte 1 da Pastoral da PEssoa Idosa
DESCRIPTION:
URL:https://diocesederoraima.org.br/evento/encontro-reginal-da-pastoral-da-pessoa-idosa/
LOCATION:Casa Da |Caridade\, : R. Floriano Peixoto\, 402\, Boa Vista\, Roraima\, 69301-320\, Brasil
END:VEVENT
BEGIN:VEVENT
DTSTART;TZID=America/Boa_Vista:20231117T080000
DTEND;TZID=America/Boa_Vista:20231118T170000
DTSTAMP:20260424T120313
CREATED:20231116T201100Z
LAST-MODIFIED:20231116T201100Z
UID:5294-1700208000-1700326800@diocesederoraima.org.br
SUMMARY:3º Encontro Aunual Diocesano da Pastoral dos Migrantes
DESCRIPTION:
URL:https://diocesederoraima.org.br/evento/3o-encontro-aunual-diocesano-da-pastoral-dos-migrantes/
LOCATION:Casa Da |Caridade\, : R. Floriano Peixoto\, 402\, Boa Vista\, Roraima\, 69301-320\, Brasil
END:VEVENT
BEGIN:VEVENT
DTSTART;TZID=America/Boa_Vista:20231007T080000
DTEND;TZID=America/Boa_Vista:20231007T190000
DTSTAMP:20260424T120313
CREATED:20230926T184156Z
LAST-MODIFIED:20230926T185259Z
UID:4893-1696665600-1696705200@diocesederoraima.org.br
SUMMARY:Arraiá de São Francisco de Assis
DESCRIPTION:
URL:https://diocesederoraima.org.br/evento/arraia-de-sao-francisco-de-assis/
LOCATION:Comunidade Católica São Francisco de Assis – Google Maps\, R. Turmalina\, 658 - Jóquei Clube\, Boa Vista - RR\, 69313-078\, Boa Vista\, RR\, 69313-078\, Brasil
ATTACH;FMTTYPE=image/jpeg:https://diocesederoraima.org.br/wp-content/uploads/2023/09/820641ec-05c1-412b-9ddf-978a3de002ab.jpg
END:VEVENT
BEGIN:VEVENT
DTSTART;TZID=America/Boa_Vista:20231004T193000
DTEND;TZID=America/Boa_Vista:20231014T193000
DTSTAMP:20260424T120313
CREATED:20230926T200429Z
LAST-MODIFIED:20230926T200523Z
UID:4902-1696447800-1697311800@diocesederoraima.org.br
SUMMARY:Círio de Nazaré
DESCRIPTION:
URL:https://diocesederoraima.org.br/evento/cirio-de-nazare/
LOCATION:Igreja Nossa Senhora de Nazaré\, Av. Maurício Habert\, Normandia\, Roraima\, 69355-000
CATEGORIES:Festejo
ATTACH;FMTTYPE=image/jpeg:https://diocesederoraima.org.br/wp-content/uploads/2023/09/WhatsApp-Image-2023-09-20-at-13.52.11-1.jpeg
END:VEVENT
BEGIN:VEVENT
DTSTART;TZID=America/Boa_Vista:20230926T080000
DTEND;TZID=America/Boa_Vista:20231001T170000
DTSTAMP:20260424T120313
CREATED:20230926T180832Z
LAST-MODIFIED:20230926T181040Z
UID:4881-1695715200-1696179600@diocesederoraima.org.br
SUMMARY:Festa de Santa Teresinha
DESCRIPTION:
URL:https://diocesederoraima.org.br/evento/festa-de-santa-teresinha/
LOCATION:Comunidade Católica Santa Teresinha\, R. Maj. Ecildon Pinto\, 1260 - Laura Moreira\,\, Boa Vista\, RR\, 69318-100\, Brasil
ATTACH;FMTTYPE=image/png:https://diocesederoraima.org.br/wp-content/uploads/2023/09/dcccb85c-2936-42fa-ac2c-5a49f2eb8b86.png
END:VEVENT
BEGIN:VEVENT
DTSTART;TZID=America/Boa_Vista:20230926T080000
DTEND;TZID=America/Boa_Vista:20230926T170000
DTSTAMP:20260424T120313
CREATED:20230926T183336Z
LAST-MODIFIED:20230926T183452Z
UID:4886-1695715200-1695747600@diocesederoraima.org.br
SUMMARY:Arraiá de São Bendito
DESCRIPTION:
URL:https://diocesederoraima.org.br/evento/arraia-de-sao-bendito/
LOCATION:Comunidade São Benedito – RR\, R. Bélgica\, 590 - Cauamé\, Boa Vista - RR\, 69311-017\, Boa Vista\, rr\, 69311-017
ATTACH;FMTTYPE=image/png:https://diocesederoraima.org.br/wp-content/uploads/2023/09/66fb4cdd-6ddf-4342-ab8d-fd9b9fb27f08.png
END:VEVENT
BEGIN:VEVENT
DTSTART;TZID=America/Boa_Vista:20230916T070000
DTEND;TZID=America/Boa_Vista:20230917T170000
DTSTAMP:20260424T120313
CREATED:20230817T183845Z
LAST-MODIFIED:20230829T191300Z
UID:4252-1694847600-1694970000@diocesederoraima.org.br
SUMMARY:Thalita Kum - Levanta-te Jovem - dias 16 e 17 setembro
DESCRIPTION:Se você busca vivenciar um final de semana verdadeiramente extraordinário\, não pode deixar passar a oportunidade do evento Thalita Kum. \nJunte-se a nós para experimentar momentos únicos e inesquecíveis que certamente marcarão sua vida ❤ \nConfira mais detalhes no link disponível abaixo\nhttps://docs.google.com/forms/d/e/1FAIpQLSeZ_Ofni439LWw7ybmo2_dIWMU08sDGESOn9SHtjjpK3gzwzg/viewform
URL:https://diocesederoraima.org.br/evento/thalita-kum-dias-16-e-17-setembro/
LOCATION:Escola Maria das Neves\, R. Lindolfo Bernardo Coutinho\, 464\, Boa Vista\, RORAIMA\, 69313-480\, Brasil
ATTACH;FMTTYPE=image/jpeg:https://diocesederoraima.org.br/wp-content/uploads/2023/08/f687153b-e1de-4a4e-99e8-df9e1c9a3814.jpeg
END:VEVENT
BEGIN:VEVENT
DTSTART;TZID=America/Boa_Vista:20230907T080000
DTEND;TZID=America/Boa_Vista:20230907T170000
DTSTAMP:20260424T120313
CREATED:20230808T212604Z
LAST-MODIFIED:20230808T213617Z
UID:4108-1694073600-1694106000@diocesederoraima.org.br
SUMMARY:29° Grito dos Excluídos e Excluídas
DESCRIPTION:
URL:https://diocesederoraima.org.br/evento/camisas-do-29-grito-dos-excluidos-e-excluidas/
LOCATION:Roraima
ATTACH;FMTTYPE=image/jpeg:https://diocesederoraima.org.br/wp-content/uploads/2023/08/Imagem-do-WhatsApp-de-2023-08-08-as-12.15.48.jpg
END:VEVENT
BEGIN:VEVENT
DTSTART;TZID=America/Boa_Vista:20230825T080000
DTEND;TZID=America/Boa_Vista:20230828T170000
DTSTAMP:20260424T120313
CREATED:20230726T212904Z
LAST-MODIFIED:20230808T212541Z
UID:3943-1692950400-1693242000@diocesederoraima.org.br
SUMMARY:Assembleia Diocesana formativa e eletiva
DESCRIPTION:O Conselho Nacional de Leigos e Leigas do Brasil da Diocese de Roraima – CNLB/RR convoca os cristãos leigos e leigas da Diocese de Roraima para participarem da Assembleia Geral Ordinária\, de caráter formativa e eletiva que se realizará nos dias 25 a 27 de Agosto de 2023\, na Prelazia da Diocese. \n📍As inscrições devem ser feitas até o dia 18/08/23 no link abaixo:\nhttps://forms.office.com/r/Vp1yag6J62 \n📍A Taxa de inscrição é de R$ 50\,00 e o PIX para pagamento é o celular:\n95 99976-0455\nEdney Veras dos Santos\nBanco Inter \n📍A Carta Convite e o Edital de Convocação podem ser encontrados no link a seguir\nhttps://1drv.ms/f/s!ArYH_fvqd-PigQS_k-jj9AMTzmFf?e=VuJi6g
URL:https://diocesederoraima.org.br/evento/assembleia-diocesana-formativa-e-eletiva/
LOCATION:PRELAZIA\, rua Bento Brasil\, 613\, Centro\, Boa Vista\, Roraima
ATTACH;FMTTYPE=image/jpeg:https://diocesederoraima.org.br/wp-content/uploads/2023/07/Imagem-do-WhatsApp-de-2023-07-25-as-09.34.13.jpg
END:VEVENT
BEGIN:VEVENT
DTSTART;TZID=America/Boa_Vista:20230819T170000
DTEND;TZID=America/Boa_Vista:20230819T190000
DTSTAMP:20260424T120313
CREATED:20230817T184947Z
LAST-MODIFIED:20230817T185010Z
UID:4263-1692464400-1692471600@diocesederoraima.org.br
SUMMARY:CAMINHADA DAS FAMÍLIAS
DESCRIPTION:
URL:https://diocesederoraima.org.br/evento/caminhada-das-familias/
LOCATION:Igreja Matriz\, Rua Teste\, Boa Vista\, Brasil
ATTACH;FMTTYPE=image/png:https://diocesederoraima.org.br/wp-content/uploads/2023/08/4.png
END:VEVENT
BEGIN:VEVENT
DTSTART;TZID=America/Boa_Vista:20230819T080000
DTEND;TZID=America/Boa_Vista:20230819T170000
DTSTAMP:20260424T120313
CREATED:20230808T204758Z
LAST-MODIFIED:20230808T204758Z
UID:4101-1692432000-1692464400@diocesederoraima.org.br
SUMMARY:ENCONTRO DA CEBS DIOCESANA
DESCRIPTION:
URL:https://diocesederoraima.org.br/evento/encontro-da-cebs-diocesana/
LOCATION:PRELAZIA\, rua Bento Brasil\, 613\, Centro\, Boa Vista\, Roraima
END:VEVENT
BEGIN:VEVENT
DTSTART;TZID=America/Boa_Vista:20230819T080000
DTEND;TZID=America/Boa_Vista:20230819T120000
DTSTAMP:20260424T120313
CREATED:20230817T184458Z
LAST-MODIFIED:20230817T184541Z
UID:4256-1692432000-1692446400@diocesederoraima.org.br
SUMMARY:DOAÇÃO DE SANGUE SEMANA DAS FAMÍLÍAS
DESCRIPTION:
URL:https://diocesederoraima.org.br/evento/doacao-de-sangue-seman-das-familias/
LOCATION:HEMOCENTRO\, Av. Brg. Eduardo Gomes\, 3418\, Boa Vista\, RR\, 69310-005
ATTACH;FMTTYPE=image/png:https://diocesederoraima.org.br/wp-content/uploads/2023/08/3.png
END:VEVENT
BEGIN:VEVENT
DTSTART;TZID=America/Boa_Vista:20230818T193000
DTEND;TZID=America/Boa_Vista:20230818T193000
DTSTAMP:20260424T120313
CREATED:20230808T212359Z
LAST-MODIFIED:20230808T212410Z
UID:4105-1692387000-1692387000@diocesederoraima.org.br
SUMMARY:Louvor para a Família
DESCRIPTION:
URL:https://diocesederoraima.org.br/evento/louvor-para-a-familia/
LOCATION:Roraima
END:VEVENT
BEGIN:VEVENT
DTSTART;TZID=America/Boa_Vista:20230730T193000
DTEND;TZID=America/Boa_Vista:20230730T193000
DTSTAMP:20260424T120313
CREATED:20230726T211157Z
LAST-MODIFIED:20230726T211254Z
UID:3935-1690745400-1690745400@diocesederoraima.org.br
SUMMARY:Bingão de São Pedro
DESCRIPTION:
URL:https://diocesederoraima.org.br/evento/bingao-de-sao-pedro/
LOCATION:Salão Santa Maria\, Av. Cap. Júlio Bezerra\, 77\, Boa Vista\, Roraima\, 69305-025
ATTACH;FMTTYPE=image/jpeg:https://diocesederoraima.org.br/wp-content/uploads/2023/07/Imagem-do-WhatsApp-de-2023-07-26-as-17.08.41.jpg
END:VEVENT
BEGIN:VEVENT
DTSTART;TZID=America/Boa_Vista:20230729T140000
DTEND;TZID=America/Boa_Vista:20230729T170000
DTSTAMP:20260424T120313
CREATED:20230726T211527Z
LAST-MODIFIED:20230726T211527Z
UID:3941-1690639200-1690650000@diocesederoraima.org.br
SUMMARY:Formação Resgate do Conhecimento Popular no uso da plantas medicinais
DESCRIPTION:
URL:https://diocesederoraima.org.br/evento/formacao-resgate-do-conhecimento-popular-no-uso-da-plantas-medicinais/
LOCATION:Auditorio da Paróquia São Jeronimo- Comunidade São Bento\, Av. Gen. Ataíde Teive\, 2386 A\, Boa vista\, Roraima\, 69309-000\, Brasil
ATTACH;FMTTYPE=image/jpeg:https://diocesederoraima.org.br/wp-content/uploads/2023/07/Imagem-do-WhatsApp-de-2023-07-25-as-15.16.59.jpg
END:VEVENT
BEGIN:VEVENT
DTSTART;TZID=America/Boa_Vista:20230723T170000
DTEND;TZID=America/Boa_Vista:20230730T170000
DTSTAMP:20260424T120313
CREATED:20230725T134425Z
LAST-MODIFIED:20230725T134551Z
UID:3919-1690131600-1690736400@diocesederoraima.org.br
SUMMARY:Festa de Sant'ana
DESCRIPTION:
URL:https://diocesederoraima.org.br/evento/festa-de-santana/
LOCATION:Comunidade Sant’ana\, Av. Raimundo Rodrigues Coelho\, Boa Vista\, Roraima\, 69316-762
END:VEVENT
BEGIN:VEVENT
DTSTART;TZID=America/Boa_Vista:20230718T193000
DTEND;TZID=America/Boa_Vista:20230718T193000
DTSTAMP:20260424T120313
CREATED:20230808T204640Z
LAST-MODIFIED:20230808T204640Z
UID:4096-1689708600-1689708600@diocesederoraima.org.br
SUMMARY:LOUVOR PARA AS FAMÍLÍAS
DESCRIPTION:
URL:https://diocesederoraima.org.br/evento/louvor-para-as-familias/
LOCATION:Catedral Cristo Redentor\, Praça do Centro Cívico\, 133\, BOA VISTA\, RR\, 69301-380\, Brasil
ATTACH;FMTTYPE=image/jpeg:https://diocesederoraima.org.br/wp-content/uploads/2023/08/Imagem-do-WhatsApp-de-2023-07-31-as-11.07.17.jpg
END:VEVENT
BEGIN:VEVENT
DTSTART;TZID=America/Boa_Vista:20230711T193000
DTEND;TZID=America/Boa_Vista:20230711T193000
DTSTAMP:20260424T120313
CREATED:20230627T202259Z
LAST-MODIFIED:20230627T202628Z
UID:3524-1689103800-1689103800@diocesederoraima.org.br
SUMMARY:Solenidade de São Bento
DESCRIPTION:
URL:https://diocesederoraima.org.br/evento/solenidade-de-sao-bento/
LOCATION:Comunidade São Bento\, Av. Gen. Ataíde Teive\, 2386 A\, Boa Vista\, Roraima\, 69309-000
ATTACH;FMTTYPE=image/jpeg:https://diocesederoraima.org.br/wp-content/uploads/2023/06/Imagem-do-WhatsApp-de-2023-06-27-as-15.34.13.jpg
END:VEVENT
BEGIN:VEVENT
DTSTART;TZID=America/Boa_Vista:20230709T080000
DTEND;TZID=America/Boa_Vista:20230709T080000
DTSTAMP:20260424T120313
CREATED:20230704T204620Z
LAST-MODIFIED:20230704T204711Z
UID:3593-1688889600-1688889600@diocesederoraima.org.br
SUMMARY:Dia da oração
DESCRIPTION:
URL:https://diocesederoraima.org.br/evento/dia-da-oracao/
LOCATION:Roraima
END:VEVENT
BEGIN:VEVENT
DTSTART;TZID=America/Boa_Vista:20230708T163000
DTEND;TZID=America/Boa_Vista:20230708T220000
DTSTAMP:20260424T120313
CREATED:20230704T203309Z
LAST-MODIFIED:20230704T203309Z
UID:3589-1688833800-1688853600@diocesederoraima.org.br
SUMMARY:I FESTIVAL MARIANO 2023
DESCRIPTION:I festival mariano da pastoral dos migrantes\, em preparação à festa dos 300 anos de evangelização na diocese de Roraima
URL:https://diocesederoraima.org.br/evento/i-festival-mariano-2023/
LOCATION:Paróquia Matriz de Nossa Senhora do Carmo\, R. Bento Brasil\, Boa Vista\, RR\, 69301-050
ATTACH;FMTTYPE=image/jpeg:https://diocesederoraima.org.br/wp-content/uploads/2023/07/Imagem-do-WhatsApp-de-2023-07-03-as-15.52.25-1.jpg
END:VEVENT
BEGIN:VEVENT
DTSTART;TZID=America/Boa_Vista:20230707T183000
DTEND;TZID=America/Boa_Vista:20230715T220000
DTSTAMP:20260424T120313
CREATED:20230704T154922Z
LAST-MODIFIED:20230704T155448Z
UID:3585-1688754600-1689458400@diocesederoraima.org.br
SUMMARY:Festa de Nossa Senhora do Carmo
DESCRIPTION:
URL:https://diocesederoraima.org.br/evento/festa-de-nossa-senhora-do-carmo/
LOCATION:Paróquia Matriz de Nossa Senhora do Carmo\, R. Bento Brasil\, Boa Vista\, RR\, 69301-050
ATTACH;FMTTYPE=image/jpeg:https://diocesederoraima.org.br/wp-content/uploads/2023/07/Imagem-do-WhatsApp-de-2023-06-26-as-10.15.37.jpg
END:VEVENT
BEGIN:VEVENT
DTSTART;TZID=America/Sao_Paulo:20230707T080000
DTEND;TZID=America/Sao_Paulo:20230709T170000
DTSTAMP:20260424T120313
CREATED:20230502T191240Z
LAST-MODIFIED:20230510T193742Z
UID:2861-1688716800-1688922000@diocesederoraima.org.br
SUMMARY:Encontro de Casais com Cristo ( Área São João Batista )
DESCRIPTION:
URL:https://diocesederoraima.org.br/evento/encontro-de-casais-com-cristo/
LOCATION:Comunidade São João Batista\, Av. Parimé Brasil\, 730 - Caranã\, Boa Vista\, Roraima\, 69317-550\, Brasil
ATTACH;FMTTYPE=image/jpeg:https://diocesederoraima.org.br/wp-content/uploads/2023/05/Imagem-do-WhatsApp-de-2023-05-02-as-13.05.44.jpg
END:VEVENT
BEGIN:VEVENT
DTSTART;TZID=America/Boa_Vista:20230704T193000
DTEND;TZID=America/Boa_Vista:20230704T193000
DTSTAMP:20260424T120313
CREATED:20230627T182517Z
LAST-MODIFIED:20230627T183011Z
UID:3514-1688499000-1688499000@diocesederoraima.org.br
SUMMARY:Planejamento da Semana Nacional da Família 2023
DESCRIPTION:emana Nacional da Família 2023 \nA Pastoral Familiar Diocesana\, realiza em unidade com as pastorais\, serviços e movimentos da nossa Diocese de Roraima\,  o Planejamento da Semana Nacional da Família 2023\, que ocorrerá  no dia 04 de junho (terça-feira) as 19h30 na Prelazia. \nEste ano Semana Nacional da Familia – SNF  trás como: \nTema: Família\, fonte de vocações \nLema: Corações ardentes\, pés a caminho (Lc 24\, 32-33) \nA proposta de Planejamento: \nO ano de 2023 foi escolhido para lembrar\, celebrar e proporcionar a (re)descoberta do Dom que cada pessoa recebeu como presente de Deus: a vocação. E se existe um lugar privilegiado de valorização e descoberta da vocação\, ele se chama família. Por isso\, Família\, fonte de vocações\, é nela que as vocações precisam ser trabalhadas\, isto é\, cada família deve proporcionar para que seus membros descubram aquele chamado que Deus\, no seu infinito amor\, colocou no íntimo de cada coração e que é a única possibilidade de vida feliz. \nVamos apresentar a proposta da semana e em união vamos realizar o planejamento das ações\, este ano o destaque se dar para a utilização do processo de inscrição e descrição das atividades\, utilizaremos os formulários digitais\, para acompanhamento em tempo real e melhor organização das estatísticas de ações a serem realizadas pelas Paróquias\, comunidades e áreas missionárias da nossa Diocese. \nSubsidio a Hora da Familia \n\n1º Encontro – Vocação: graça e missão\n2º Encontro – Chamados a ser povo de Deus\n3º Encontro – Vocação dos discípulos missionários\n4º Encontro – Vocação: resposta de amor\n5º Encontro – Vocação: servir com alegria\n6º Encontro – Jesus chama para permanecer com Ele\n7º Encontro – Vocação é graça que une chamado e resposta\nGilberto e Márcia\n\nCasal Diocesamno da Pastorla familiar- contato (95) 99971 6052
URL:https://diocesederoraima.org.br/evento/planejamento-da-semana-nacional-da-familia-2023/
LOCATION:PRELAZIA\, rua Bento Brasil\, 613\, Centro\, Boa Vista\, Roraima
ATTACH;FMTTYPE=image/jpeg:https://diocesederoraima.org.br/wp-content/uploads/2023/06/Imagem-do-WhatsApp-de-2023-06-27-as-12.26.37.jpg
END:VEVENT
BEGIN:VEVENT
DTSTART;TZID=America/Boa_Vista:20230703T190000
DTEND;TZID=America/Boa_Vista:20230708T220000
DTSTAMP:20260424T120313
CREATED:20230627T193115Z
LAST-MODIFIED:20230627T193115Z
UID:3519-1688410800-1688853600@diocesederoraima.org.br
SUMMARY:CURSO DE TEOLOGIA PASTORAL 2023
DESCRIPTION:
URL:https://diocesederoraima.org.br/evento/curso-de-teologia-pastoral-2023-2/
LOCATION:PRELAZIA\, rua Bento Brasil\, 613\, Centro\, Boa Vista\, Roraima
END:VEVENT
BEGIN:VEVENT
DTSTART;TZID=America/Boa_Vista:20230630T080000
DTEND;TZID=America/Boa_Vista:20230702T130000
DTSTAMP:20260424T120313
CREATED:20230616T161648Z
LAST-MODIFIED:20230616T161648Z
UID:3370-1688112000-1688302800@diocesederoraima.org.br
SUMMARY:Seminário LAudato Si 
DESCRIPTION:INSCRIÇÕES ATÉ O DIA: 27.06 🔺\nLink de Inscrição: https://docs.google.com/forms/d/e/1FAIpQLSdhIfoJh-yns3PiH664V2MIlHScY-JNIE0A5dpGhGN2JvA1-w/viewform
URL:https://diocesederoraima.org.br/evento/seminario-laudato-si/
LOCATION:Auditório do Programa de Pós-Graduação em Sociedade e Fronteira-PPGSOF\, na Universidade Federal de Roraima.\, Av. Cap. Ene Garcês\, 2413\, Boa vista\, RORAIMA\, 69310-000\, Brasil
ATTACH;FMTTYPE=image/jpeg:https://diocesederoraima.org.br/wp-content/uploads/2023/06/Imagem-do-WhatsApp-de-2023-06-16-as-10.05.05.jpg
END:VEVENT
BEGIN:VEVENT
DTSTART;TZID=America/Boa_Vista:20230623T090000
DTEND;TZID=America/Boa_Vista:20230624T090000
DTSTAMP:20260424T120313
CREATED:20230619T151256Z
LAST-MODIFIED:20230619T185414Z
UID:3440-1687510800-1687597200@diocesederoraima.org.br
SUMMARY:1ª Conferência Irmã Telma Lage Construindo uma política pública com pessoas migrantes\, refugiadas e apátridas
DESCRIPTION:
URL:https://diocesederoraima.org.br/evento/1a-conferencia-irma-telma-lage-construindo-uma-politica-publica-com-pessoas-migrantes-refugiadas-e-apatridas/
LOCATION:Auditório do Programa de Pós-Graduação em Sociedade e Fronteira-PPGSOF\, na Universidade Federal de Roraima.\, Av. Cap. Ene Garcês\, 2413\, Boa vista\, RORAIMA\, 69310-000\, Brasil
END:VEVENT
END:VCALENDAR