BEGIN:VCALENDAR
VERSION:2.0
PRODID:-//Diocese de Roraima - ECPv6.15.17//NONSGML v1.0//EN
CALSCALE:GREGORIAN
METHOD:PUBLISH
X-ORIGINAL-URL:https://diocesederoraima.org.br
X-WR-CALDESC:Eventos para Diocese de Roraima
REFRESH-INTERVAL;VALUE=DURATION:PT1H
X-Robots-Tag:noindex
X-PUBLISHED-TTL:PT1H
BEGIN:VTIMEZONE
TZID:America/Manaus
BEGIN:STANDARD
TZOFFSETFROM:-0400
TZOFFSETTO:-0400
TZNAME:-04
DTSTART:20210101T000000
END:STANDARD
END:VTIMEZONE
BEGIN:VEVENT
DTSTART;VALUE=DATE:20221212
DTEND;VALUE=DATE:20221213
DTSTAMP:20260425T233818
CREATED:20221209T145416Z
LAST-MODIFIED:20221212T225309Z
UID:1331-1670803200-1670889599@diocesederoraima.org.br
SUMMARY:Nossa Senhora de Guadalupe
DESCRIPTION:Festa da padroeira da América Latina \n\nTRÍDUO – 08\, 09 e 10\, às 19h30\, na comunidade.\nARRAIAL – 10/12\, a partir das 20h\, na comunidade.\nMISSA FESTIVA – 12/12\, às 19h30\, na comunidade.\n\nLocalização: Rua Gideão\, 584 – bairro Nova Canaã
URL:https://diocesederoraima.org.br/evento/nossa-senhora-de-guadalupe/
LOCATION:Nossa Senhora de Guadalupe\, R. Gideão\, 584 - Nova Canaã\, Boa Vista\, Roraima\, 69314-406\, Brasil
ATTACH;FMTTYPE=image/jpeg:https://diocesederoraima.org.br/wp-content/uploads/2022/12/R.jpg
END:VEVENT
BEGIN:VEVENT
DTSTART;VALUE=DATE:20221213
DTEND;VALUE=DATE:20221214
DTSTAMP:20260425T233818
CREATED:20221212T225044Z
LAST-MODIFIED:20221212T225044Z
UID:1351-1670889600-1670975999@diocesederoraima.org.br
SUMMARY:Santa Luzia
DESCRIPTION:Missa às 19h30
URL:https://diocesederoraima.org.br/evento/santa-luzia/
LOCATION:Santa Luzia\, R. Pedra Pintada\, 117 - Treze de Setembro\, Boa Vista\, Roraima\, 69308-300\, Brasil
ATTACH;FMTTYPE=image/jpeg:https://diocesederoraima.org.br/wp-content/uploads/2022/12/Santa-Luzia.jpg
END:VEVENT
END:VCALENDAR