BEGIN:VCALENDAR
VERSION:2.0
PRODID:-//Diocese de Roraima - ECPv6.15.17//NONSGML v1.0//EN
CALSCALE:GREGORIAN
METHOD:PUBLISH
X-WR-CALNAME:Diocese de Roraima
X-ORIGINAL-URL:https://diocesederoraima.org.br
X-WR-CALDESC:Eventos para Diocese de Roraima
REFRESH-INTERVAL;VALUE=DURATION:PT1H
X-Robots-Tag:noindex
X-PUBLISHED-TTL:PT1H
BEGIN:VTIMEZONE
TZID:America/Sao_Paulo
BEGIN:STANDARD
TZOFFSETFROM:-0300
TZOFFSETTO:-0300
TZNAME:-03
DTSTART:20220101T000000
END:STANDARD
END:VTIMEZONE
BEGIN:VEVENT
DTSTART;TZID=America/Sao_Paulo:20230419T080000
DTEND;TZID=America/Sao_Paulo:20230419T170000
DTSTAMP:20260425T180026
CREATED:20230419T140731Z
LAST-MODIFIED:20230419T141901Z
UID:2508-1681891200-1681923600@diocesederoraima.org.br
SUMMARY:FEIJOADA BENEFICIENTE
DESCRIPTION:
URL:https://diocesederoraima.org.br/evento/feijoada-beneficiente/
LOCATION:Paróquia de Nossa Senhora Consolata\, R. Uraricoera\, 671 - São Vicente\, Boa Vista - RR\, Boa Vista\, Roraima\, Brasil
ATTACH;FMTTYPE=image/jpeg:https://diocesederoraima.org.br/wp-content/uploads/2023/04/Imagem-do-WhatsApp-de-2023-04-19-as-08.35.03.jpg
ORGANIZER;CN="Pastoral Univ%C3%A9rsitaria":MAILTO:pu.roraima@gmail.com
END:VEVENT
BEGIN:VEVENT
DTSTART;TZID=America/Sao_Paulo:20230421T080000
DTEND;TZID=America/Sao_Paulo:20230422T180000
DTSTAMP:20260425T180026
CREATED:20230419T134027Z
LAST-MODIFIED:20230419T141927Z
UID:2497-1682064000-1682186400@diocesederoraima.org.br
SUMMARY:Conselho Missionário Diocesano
DESCRIPTION:Para você participar deste encontro\, que ocorrerá\, nos dias 21 e 22 deste mês de Abril\, em uma sala pastoral da Cúria Diocesana de Roraima\, inscreva-se neste formulário\, preenchendo as informações abaixo: https://docs.google.com/forms/d/e/1FAIpQLSfExQAPFLbWZmNEENXW5f1mBqZiEtRYAocHZzNwK4jNhu1t2Q/viewform \n 
URL:https://diocesederoraima.org.br/evento/conselho-missionario-diocesano/
LOCATION:PRELAZIA\, rua Bento Brasil\, 613\, Centro\, Boa Vista\, Roraima
ATTACH;FMTTYPE=image/jpeg:https://diocesederoraima.org.br/wp-content/uploads/2023/04/Imagem-do-WhatsApp-de-2023-04-19-as-08.35.29.jpg
END:VEVENT
BEGIN:VEVENT
DTSTART;TZID=America/Sao_Paulo:20230421T193000
DTEND;TZID=America/Sao_Paulo:20230421T220000
DTSTAMP:20260425T180026
CREATED:20230420T150625Z
LAST-MODIFIED:20230420T150722Z
UID:2651-1682105400-1682114400@diocesederoraima.org.br
SUMMARY:Missa Jovem
DESCRIPTION:
URL:https://diocesederoraima.org.br/evento/missa-jovem/
LOCATION:Comunidade São João Batista\, Av. Parimé Brasil\, 730 - Caranã\, Boa Vista\, Roraima\, 69317-550\, Brasil
ATTACH;FMTTYPE=image/jpeg:https://diocesederoraima.org.br/wp-content/uploads/2023/04/Imagem-do-WhatsApp-de-2023-04-17-as-19.27.23.jpg
END:VEVENT
BEGIN:VEVENT
DTSTART;TZID=America/Sao_Paulo:20230423T073000
DTEND;TZID=America/Sao_Paulo:20230423T160000
DTSTAMP:20260425T180026
CREATED:20230420T193635Z
LAST-MODIFIED:20230420T193635Z
UID:2657-1682235000-1682265600@diocesederoraima.org.br
SUMMARY:SEMINÁRIO VOCACIONAL MARISTA
DESCRIPTION:Quer conhecer a vocação Marista de Irmãos\, Leigas e Leigos?\n*Venha participar conosco!*🏃🏻‍♀🏃🏻‍♂\nO Seminário é aberto para Jovens\, a partir de 16 anos\, e adultos.\nA inscrição é gratuita!✅\nAssessoria: Irmão André Nosini (Comunidade Marista de Cruzeiro do Sul/AC) \nlink de inscrição \nhttps://docs.google.com/forms/d/e/1FAIpQLScEfcIqTORyqL5ktyWYI_s5OB-x6t6ujSzacnEDUiQqRZsTtA/viewform
URL:https://diocesederoraima.org.br/evento/seminario-vocacional-marista/
LOCATION:PRELAZIA\, rua Bento Brasil\, 613\, Centro\, Boa Vista\, Roraima
ATTACH;FMTTYPE=image/jpeg:https://diocesederoraima.org.br/wp-content/uploads/2023/04/Imagem-do-WhatsApp-de-2023-04-02-as-22.09.18.jpg
END:VEVENT
BEGIN:VEVENT
DTSTART;TZID=America/Sao_Paulo:20230427T080000
DTEND;TZID=America/Sao_Paulo:20230428T170000
DTSTAMP:20260425T180026
CREATED:20230427T193722Z
LAST-MODIFIED:20230427T193821Z
UID:2724-1682582400-1682701200@diocesederoraima.org.br
SUMMARY:Encontro de verificação Vocacional
DESCRIPTION:Publico : Jovens a partir de 16 anos em diante e que estejam ou tenham ensino médio\nMais informações : Pe.Vanthuy (95) 991147596
URL:https://diocesederoraima.org.br/evento/encontro-de-verificacao-vocacional/
LOCATION:Reitoria Aparecida\, R. Roberto Costa\, 519\, Boa Vista\, Roraima\, 69306-440
ATTACH;FMTTYPE=image/jpeg:https://diocesederoraima.org.br/wp-content/uploads/2023/04/Imagem-do-WhatsApp-de-2023-04-27-as-14.24.06.jpg
END:VEVENT
BEGIN:VEVENT
DTSTART;TZID=America/Sao_Paulo:20230428T193000
DTEND;TZID=America/Sao_Paulo:20230428T193000
DTSTAMP:20260425T180026
CREATED:20230428T192522Z
LAST-MODIFIED:20230428T192950Z
UID:2714-1682710200-1682710200@diocesederoraima.org.br
SUMMARY:Festejo da padroeira Santa Catarina de Sena
DESCRIPTION:
URL:https://diocesederoraima.org.br/evento/festejo-da-padroeira-sanata-catarina-de-sena/
LOCATION:Estacionamento Gavião\, Av. dos Garimpeiros\, 332\, Boa Vista\, Roraima\, 69317-181\, Brasil
ATTACH;FMTTYPE=image/jpeg:https://diocesederoraima.org.br/wp-content/uploads/2023/04/Imagem-do-WhatsApp-de-2023-04-25-as-10.53.40.jpg
END:VEVENT
BEGIN:VEVENT
DTSTART;TZID=America/Sao_Paulo:20230428T193000
DTEND;TZID=America/Sao_Paulo:20230428T213000
DTSTAMP:20260425T180026
CREATED:20230428T203926Z
LAST-MODIFIED:20230428T211733Z
UID:2745-1682710200-1682717400@diocesederoraima.org.br
SUMMARY:Liderança e gestão paroquial/eclesial
DESCRIPTION:É HOJE!!! LIVE COM CONVIDADOS ESPECIAIS E COM DIREITO A CERTIFICADO DE 10 HORAS: \nCÍCERO PEREIRA DOS SANTOS – LIDERANÇA e Pe. LUZIMAR FONSECA – GESTÃO
URL:https://diocesederoraima.org.br/evento/lideranca-e-gestao-paroquial-eclesial/
ATTACH;FMTTYPE=image/jpeg:https://diocesederoraima.org.br/wp-content/uploads/2023/04/Imagem-do-WhatsApp-de-2023-04-28-as-08.35.04.jpg
END:VEVENT
BEGIN:VEVENT
DTSTART;TZID=America/Sao_Paulo:20230429T170000
DTEND;TZID=America/Sao_Paulo:20230429T180000
DTSTAMP:20260425T180026
CREATED:20230428T213310Z
LAST-MODIFIED:20230428T213341Z
UID:2752-1682787600-1682791200@diocesederoraima.org.br
SUMMARY:Encontro vivencial para os recém casados
DESCRIPTION:A pastoral familiar diocesana\, realiza neste sábado 29/4\, as 17h na prelazia o encontro vivencial para os recém casados 🌺 vamos divulgar e convide aquele casal da sua comunidade que casou nos últimos 3 anos. Aguardamos vocês com muita alegria ❤🌺
URL:https://diocesederoraima.org.br/evento/encontro-vivencial-para-os-recem-casados/
LOCATION:PRELAZIA\, rua Bento Brasil\, 613\, Centro\, Boa Vista\, Roraima
ATTACH;FMTTYPE=image/jpeg:https://diocesederoraima.org.br/wp-content/uploads/2023/04/Imagem-do-WhatsApp-de-2023-04-28-as-15.45.10.jpg
END:VEVENT
BEGIN:VEVENT
DTSTART;TZID=America/Sao_Paulo:20230429T190000
DTEND;TZID=America/Sao_Paulo:20230429T190000
DTSTAMP:20260425T180026
CREATED:20230428T212638Z
LAST-MODIFIED:20230428T212750Z
UID:2748-1682794800-1682794800@diocesederoraima.org.br
SUMMARY:Arraia do pastorzão
DESCRIPTION:
URL:https://diocesederoraima.org.br/evento/arraia-do-pastorzao/
ATTACH;FMTTYPE=image/jpeg:https://diocesederoraima.org.br/wp-content/uploads/2023/04/Imagem-do-WhatsApp-de-2023-04-27-as-07.38.05.jpg
END:VEVENT
END:VCALENDAR