BEGIN:VCALENDAR
VERSION:2.0
PRODID:-//Diocese de Roraima - ECPv6.15.17//NONSGML v1.0//EN
CALSCALE:GREGORIAN
METHOD:PUBLISH
X-ORIGINAL-URL:https://diocesederoraima.org.br
X-WR-CALDESC:Eventos para Diocese de Roraima
REFRESH-INTERVAL;VALUE=DURATION:PT1H
X-Robots-Tag:noindex
X-PUBLISHED-TTL:PT1H
BEGIN:VTIMEZONE
TZID:America/Boa_Vista
BEGIN:STANDARD
TZOFFSETFROM:-0400
TZOFFSETTO:-0400
TZNAME:-04
DTSTART:20220101T000000
END:STANDARD
END:VTIMEZONE
BEGIN:VTIMEZONE
TZID:America/Sao_Paulo
BEGIN:STANDARD
TZOFFSETFROM:-0300
TZOFFSETTO:-0300
TZNAME:-03
DTSTART:20220101T000000
END:STANDARD
END:VTIMEZONE
BEGIN:VEVENT
DTSTART;TZID=America/Boa_Vista:20230630T080000
DTEND;TZID=America/Boa_Vista:20230702T130000
DTSTAMP:20260425T133154
CREATED:20230616T161648Z
LAST-MODIFIED:20230616T161648Z
UID:3370-1688112000-1688302800@diocesederoraima.org.br
SUMMARY:Seminário LAudato Si 
DESCRIPTION:INSCRIÇÕES ATÉ O DIA: 27.06 🔺\nLink de Inscrição: https://docs.google.com/forms/d/e/1FAIpQLSdhIfoJh-yns3PiH664V2MIlHScY-JNIE0A5dpGhGN2JvA1-w/viewform
URL:https://diocesederoraima.org.br/evento/seminario-laudato-si/
LOCATION:Auditório do Programa de Pós-Graduação em Sociedade e Fronteira-PPGSOF\, na Universidade Federal de Roraima.\, Av. Cap. Ene Garcês\, 2413\, Boa vista\, RORAIMA\, 69310-000\, Brasil
ATTACH;FMTTYPE=image/jpeg:https://diocesederoraima.org.br/wp-content/uploads/2023/06/Imagem-do-WhatsApp-de-2023-06-16-as-10.05.05.jpg
END:VEVENT
BEGIN:VEVENT
DTSTART;TZID=America/Boa_Vista:20230703T190000
DTEND;TZID=America/Boa_Vista:20230708T220000
DTSTAMP:20260425T133154
CREATED:20230627T193115Z
LAST-MODIFIED:20230627T193115Z
UID:3519-1688410800-1688853600@diocesederoraima.org.br
SUMMARY:CURSO DE TEOLOGIA PASTORAL 2023
DESCRIPTION:
URL:https://diocesederoraima.org.br/evento/curso-de-teologia-pastoral-2023-2/
LOCATION:PRELAZIA\, rua Bento Brasil\, 613\, Centro\, Boa Vista\, Roraima
END:VEVENT
BEGIN:VEVENT
DTSTART;TZID=America/Boa_Vista:20230704T193000
DTEND;TZID=America/Boa_Vista:20230704T193000
DTSTAMP:20260425T133154
CREATED:20230627T182517Z
LAST-MODIFIED:20230627T183011Z
UID:3514-1688499000-1688499000@diocesederoraima.org.br
SUMMARY:Planejamento da Semana Nacional da Família 2023
DESCRIPTION:emana Nacional da Família 2023 \nA Pastoral Familiar Diocesana\, realiza em unidade com as pastorais\, serviços e movimentos da nossa Diocese de Roraima\,  o Planejamento da Semana Nacional da Família 2023\, que ocorrerá  no dia 04 de junho (terça-feira) as 19h30 na Prelazia. \nEste ano Semana Nacional da Familia – SNF  trás como: \nTema: Família\, fonte de vocações \nLema: Corações ardentes\, pés a caminho (Lc 24\, 32-33) \nA proposta de Planejamento: \nO ano de 2023 foi escolhido para lembrar\, celebrar e proporcionar a (re)descoberta do Dom que cada pessoa recebeu como presente de Deus: a vocação. E se existe um lugar privilegiado de valorização e descoberta da vocação\, ele se chama família. Por isso\, Família\, fonte de vocações\, é nela que as vocações precisam ser trabalhadas\, isto é\, cada família deve proporcionar para que seus membros descubram aquele chamado que Deus\, no seu infinito amor\, colocou no íntimo de cada coração e que é a única possibilidade de vida feliz. \nVamos apresentar a proposta da semana e em união vamos realizar o planejamento das ações\, este ano o destaque se dar para a utilização do processo de inscrição e descrição das atividades\, utilizaremos os formulários digitais\, para acompanhamento em tempo real e melhor organização das estatísticas de ações a serem realizadas pelas Paróquias\, comunidades e áreas missionárias da nossa Diocese. \nSubsidio a Hora da Familia \n\n1º Encontro – Vocação: graça e missão\n2º Encontro – Chamados a ser povo de Deus\n3º Encontro – Vocação dos discípulos missionários\n4º Encontro – Vocação: resposta de amor\n5º Encontro – Vocação: servir com alegria\n6º Encontro – Jesus chama para permanecer com Ele\n7º Encontro – Vocação é graça que une chamado e resposta\nGilberto e Márcia\n\nCasal Diocesamno da Pastorla familiar- contato (95) 99971 6052
URL:https://diocesederoraima.org.br/evento/planejamento-da-semana-nacional-da-familia-2023/
LOCATION:PRELAZIA\, rua Bento Brasil\, 613\, Centro\, Boa Vista\, Roraima
ATTACH;FMTTYPE=image/jpeg:https://diocesederoraima.org.br/wp-content/uploads/2023/06/Imagem-do-WhatsApp-de-2023-06-27-as-12.26.37.jpg
END:VEVENT
BEGIN:VEVENT
DTSTART;TZID=America/Sao_Paulo:20230707T080000
DTEND;TZID=America/Sao_Paulo:20230709T170000
DTSTAMP:20260425T133154
CREATED:20230502T191240Z
LAST-MODIFIED:20230510T193742Z
UID:2861-1688716800-1688922000@diocesederoraima.org.br
SUMMARY:Encontro de Casais com Cristo ( Área São João Batista )
DESCRIPTION:
URL:https://diocesederoraima.org.br/evento/encontro-de-casais-com-cristo/
LOCATION:Comunidade São João Batista\, Av. Parimé Brasil\, 730 - Caranã\, Boa Vista\, Roraima\, 69317-550\, Brasil
ATTACH;FMTTYPE=image/jpeg:https://diocesederoraima.org.br/wp-content/uploads/2023/05/Imagem-do-WhatsApp-de-2023-05-02-as-13.05.44.jpg
END:VEVENT
BEGIN:VEVENT
DTSTART;TZID=America/Boa_Vista:20230707T183000
DTEND;TZID=America/Boa_Vista:20230715T220000
DTSTAMP:20260425T133154
CREATED:20230704T154922Z
LAST-MODIFIED:20230704T155448Z
UID:3585-1688754600-1689458400@diocesederoraima.org.br
SUMMARY:Festa de Nossa Senhora do Carmo
DESCRIPTION:
URL:https://diocesederoraima.org.br/evento/festa-de-nossa-senhora-do-carmo/
LOCATION:Paróquia Matriz de Nossa Senhora do Carmo\, R. Bento Brasil\, Boa Vista\, RR\, 69301-050
ATTACH;FMTTYPE=image/jpeg:https://diocesederoraima.org.br/wp-content/uploads/2023/07/Imagem-do-WhatsApp-de-2023-06-26-as-10.15.37.jpg
END:VEVENT
BEGIN:VEVENT
DTSTART;TZID=America/Boa_Vista:20230708T163000
DTEND;TZID=America/Boa_Vista:20230708T220000
DTSTAMP:20260425T133154
CREATED:20230704T203309Z
LAST-MODIFIED:20230704T203309Z
UID:3589-1688833800-1688853600@diocesederoraima.org.br
SUMMARY:I FESTIVAL MARIANO 2023
DESCRIPTION:I festival mariano da pastoral dos migrantes\, em preparação à festa dos 300 anos de evangelização na diocese de Roraima
URL:https://diocesederoraima.org.br/evento/i-festival-mariano-2023/
LOCATION:Paróquia Matriz de Nossa Senhora do Carmo\, R. Bento Brasil\, Boa Vista\, RR\, 69301-050
ATTACH;FMTTYPE=image/jpeg:https://diocesederoraima.org.br/wp-content/uploads/2023/07/Imagem-do-WhatsApp-de-2023-07-03-as-15.52.25-1.jpg
END:VEVENT
BEGIN:VEVENT
DTSTART;TZID=America/Boa_Vista:20230709T080000
DTEND;TZID=America/Boa_Vista:20230709T080000
DTSTAMP:20260425T133154
CREATED:20230704T204620Z
LAST-MODIFIED:20230704T204711Z
UID:3593-1688889600-1688889600@diocesederoraima.org.br
SUMMARY:Dia da oração
DESCRIPTION:
URL:https://diocesederoraima.org.br/evento/dia-da-oracao/
END:VEVENT
BEGIN:VEVENT
DTSTART;TZID=America/Boa_Vista:20230711T193000
DTEND;TZID=America/Boa_Vista:20230711T193000
DTSTAMP:20260425T133154
CREATED:20230627T202259Z
LAST-MODIFIED:20230627T202628Z
UID:3524-1689103800-1689103800@diocesederoraima.org.br
SUMMARY:Solenidade de São Bento
DESCRIPTION:
URL:https://diocesederoraima.org.br/evento/solenidade-de-sao-bento/
LOCATION:Comunidade São Bento\, Av. Gen. Ataíde Teive\, 2386 A\, Boa Vista\, Roraima\, 69309-000
ATTACH;FMTTYPE=image/jpeg:https://diocesederoraima.org.br/wp-content/uploads/2023/06/Imagem-do-WhatsApp-de-2023-06-27-as-15.34.13.jpg
END:VEVENT
BEGIN:VEVENT
DTSTART;TZID=America/Boa_Vista:20230718T193000
DTEND;TZID=America/Boa_Vista:20230718T193000
DTSTAMP:20260425T133154
CREATED:20230808T204640Z
LAST-MODIFIED:20230808T204640Z
UID:4096-1689708600-1689708600@diocesederoraima.org.br
SUMMARY:LOUVOR PARA AS FAMÍLÍAS
DESCRIPTION:
URL:https://diocesederoraima.org.br/evento/louvor-para-as-familias/
LOCATION:Catedral Cristo Redentor\, Praça do Centro Cívico\, 133\, BOA VISTA\, RR\, 69301-380\, Brasil
ATTACH;FMTTYPE=image/jpeg:https://diocesederoraima.org.br/wp-content/uploads/2023/08/Imagem-do-WhatsApp-de-2023-07-31-as-11.07.17.jpg
END:VEVENT
BEGIN:VEVENT
DTSTART;TZID=America/Boa_Vista:20230723T170000
DTEND;TZID=America/Boa_Vista:20230730T170000
DTSTAMP:20260425T133154
CREATED:20230725T134425Z
LAST-MODIFIED:20230725T134551Z
UID:3919-1690131600-1690736400@diocesederoraima.org.br
SUMMARY:Festa de Sant'ana
DESCRIPTION:
URL:https://diocesederoraima.org.br/evento/festa-de-santana/
LOCATION:Comunidade Sant’ana\, Av. Raimundo Rodrigues Coelho\, Boa Vista\, Roraima\, 69316-762
END:VEVENT
BEGIN:VEVENT
DTSTART;TZID=America/Boa_Vista:20230729T140000
DTEND;TZID=America/Boa_Vista:20230729T170000
DTSTAMP:20260425T133154
CREATED:20230726T211527Z
LAST-MODIFIED:20230726T211527Z
UID:3941-1690639200-1690650000@diocesederoraima.org.br
SUMMARY:Formação Resgate do Conhecimento Popular no uso da plantas medicinais
DESCRIPTION:
URL:https://diocesederoraima.org.br/evento/formacao-resgate-do-conhecimento-popular-no-uso-da-plantas-medicinais/
LOCATION:Auditorio da Paróquia São Jeronimo- Comunidade São Bento\, Av. Gen. Ataíde Teive\, 2386 A\, Boa vista\, Roraima\, 69309-000\, Brasil
ATTACH;FMTTYPE=image/jpeg:https://diocesederoraima.org.br/wp-content/uploads/2023/07/Imagem-do-WhatsApp-de-2023-07-25-as-15.16.59.jpg
END:VEVENT
BEGIN:VEVENT
DTSTART;TZID=America/Boa_Vista:20230730T193000
DTEND;TZID=America/Boa_Vista:20230730T193000
DTSTAMP:20260425T133154
CREATED:20230726T211157Z
LAST-MODIFIED:20230726T211254Z
UID:3935-1690745400-1690745400@diocesederoraima.org.br
SUMMARY:Bingão de São Pedro
DESCRIPTION:
URL:https://diocesederoraima.org.br/evento/bingao-de-sao-pedro/
LOCATION:Salão Santa Maria\, Av. Cap. Júlio Bezerra\, 77\, Boa Vista\, Roraima\, 69305-025
ATTACH;FMTTYPE=image/jpeg:https://diocesederoraima.org.br/wp-content/uploads/2023/07/Imagem-do-WhatsApp-de-2023-07-26-as-17.08.41.jpg
END:VEVENT
END:VCALENDAR