BEGIN:VCALENDAR
VERSION:2.0
PRODID:-//Diocese de Roraima - ECPv6.15.17//NONSGML v1.0//EN
CALSCALE:GREGORIAN
METHOD:PUBLISH
X-ORIGINAL-URL:https://diocesederoraima.org.br
X-WR-CALDESC:Eventos para Diocese de Roraima
REFRESH-INTERVAL;VALUE=DURATION:PT1H
X-Robots-Tag:noindex
X-PUBLISHED-TTL:PT1H
BEGIN:VTIMEZONE
TZID:America/Boa_Vista
BEGIN:STANDARD
TZOFFSETFROM:-0400
TZOFFSETTO:-0400
TZNAME:-04
DTSTART:20230101T000000
END:STANDARD
END:VTIMEZONE
BEGIN:VEVENT
DTSTART;TZID=America/Boa_Vista:20240504T190000
DTEND;TZID=America/Boa_Vista:20240504T190000
DTSTAMP:20260424T234618
CREATED:20240423T182845Z
LAST-MODIFIED:20240423T182845Z
UID:6573-1714849200-1714849200@diocesederoraima.org.br
SUMMARY:I Festival Mariano da Comunidade Santa Clara
DESCRIPTION:
URL:https://diocesederoraima.org.br/evento/i-festival-mariano-da-comunidade-santa-clara/
LOCATION:Igreja Santa Clara\, 1714\, R. Santa Clara\, 1584 - Cinturão Verde\,\, Boa Vista\, Roraima\, 69312-349
ATTACH;FMTTYPE=image/jpeg:https://diocesederoraima.org.br/wp-content/uploads/2024/04/WhatsApp-Image-2024-04-23-at-11.26.55.jpeg
END:VEVENT
BEGIN:VEVENT
DTSTART;TZID=America/Boa_Vista:20240510T190000
DTEND;TZID=America/Boa_Vista:20240513T170000
DTSTAMP:20260424T234618
CREATED:20240503T135550Z
LAST-MODIFIED:20240503T135550Z
UID:6590-1715367600-1715619600@diocesederoraima.org.br
SUMMARY:Festa de Nossa Senhora de Fátima
DESCRIPTION:
URL:https://diocesederoraima.org.br/evento/festa-de-nossa-senhora-de-fatima/
LOCATION:Paróquia de Nossa Senhora de Fátima ( Mucajaí)\, BR-174\, Mucajaí- RR\, Mucajaí\, 69340-000
ATTACH;FMTTYPE=image/jpeg:https://diocesederoraima.org.br/wp-content/uploads/2024/05/WhatsApp-Image-2024-05-03-at-09.44.50.jpeg
END:VEVENT
BEGIN:VEVENT
DTSTART;TZID=America/Boa_Vista:20240513T080000
DTEND;TZID=America/Boa_Vista:20240513T170000
DTSTAMP:20260424T234618
CREATED:20240513T143748Z
LAST-MODIFIED:20240513T143748Z
UID:6605-1715587200-1715619600@diocesederoraima.org.br
SUMMARY:SEMANA DE ORAÇÃO PELA UNIDADE CRISTÃ 12 a 19 de maio | 2024
DESCRIPTION:ebook_souc_2024_a
URL:https://diocesederoraima.org.br/evento/semana-de-oracao-pela-unidade-crista-12-a-19-de-maio-2024/
ATTACH;FMTTYPE=image/png:https://diocesederoraima.org.br/wp-content/uploads/2024/05/ebook_souc_2024_a.pdf-1.png
END:VEVENT
BEGIN:VEVENT
DTSTART;TZID=America/Boa_Vista:20240519T163000
DTEND;TZID=America/Boa_Vista:20240519T220000
DTSTAMP:20260424T234618
CREATED:20240411T214037Z
LAST-MODIFIED:20240516T124442Z
UID:6459-1716136200-1716156000@diocesederoraima.org.br
SUMMARY:✨ Festa de PENTECOSTES – Festa das Comunidades – 2024 🕊️
DESCRIPTION:
URL:https://diocesederoraima.org.br/evento/%e2%9c%a8-festa-de-pentecostes-festa-das-comunidades-2024-%f0%9f%95%8a%ef%b8%8f/
LOCATION:Parque Anaua\, Av. Brg. Eduardo Gomes- 2207-2109\, Boa Vista\, Roraima\, 69305-005\, Brasil
ATTACH;FMTTYPE=image/png:https://diocesederoraima.org.br/wp-content/uploads/2024/04/Pentecostes24-1.png
END:VEVENT
BEGIN:VEVENT
DTSTART;TZID=America/Boa_Vista:20240530T080000
DTEND;TZID=America/Boa_Vista:20240530T193000
DTSTAMP:20260424T234618
CREATED:20240528T143916Z
LAST-MODIFIED:20240529T143138Z
UID:6669-1717056000-1717097400@diocesederoraima.org.br
SUMMARY:PROGRAMAÇÃO DE CORPUS CHRISTI
DESCRIPTION: 
URL:https://diocesederoraima.org.br/evento/programacao-de-corpus-christi/
ATTACH;FMTTYPE=image/png:https://diocesederoraima.org.br/wp-content/uploads/2024/05/missa-de-corpus-crist-.png
END:VEVENT
END:VCALENDAR