BEGIN:VCALENDAR
VERSION:2.0
PRODID:-//Diocese de Roraima - ECPv6.15.17//NONSGML v1.0//EN
CALSCALE:GREGORIAN
METHOD:PUBLISH
X-ORIGINAL-URL:https://diocesederoraima.org.br
X-WR-CALDESC:Eventos para Diocese de Roraima
REFRESH-INTERVAL;VALUE=DURATION:PT1H
X-Robots-Tag:noindex
X-PUBLISHED-TTL:PT1H
BEGIN:VTIMEZONE
TZID:America/Boa_Vista
BEGIN:STANDARD
TZOFFSETFROM:-0400
TZOFFSETTO:-0400
TZNAME:-04
DTSTART:20230101T000000
END:STANDARD
END:VTIMEZONE
BEGIN:VEVENT
DTSTART;TZID=America/Boa_Vista:20240830T080000
DTEND;TZID=America/Boa_Vista:20240901T170000
DTSTAMP:20260424T182345
CREATED:20240626T193715Z
LAST-MODIFIED:20240808T155818Z
UID:6802-1725004800-1725210000@diocesederoraima.org.br
SUMMARY:1º CONGRESSO DIOCESANO
DESCRIPTION:Convite para o congresso. \nprogramação congresso IAM-RR-3 \n🎉 I Congresso Diocesano da Infância e Adolescência Missionária – RR 🎉 \nA missão é o coração da Igreja\, e para que essa ação missionária alcance seus objetivos\, é essencial que todos os missionários estejam unidos em um só coração e uma só alma (At. 4\,32). Em comunhão com a Infância e Adolescência Missionária do Brasil\, convidamos você para o nosso I Congresso Missionário Diocesano da IAM – RR\, que acontecerá nos dias 30 e 31 de agosto e 1º de setembro de 2024. \n✨ Objetivos do Congresso: \nRefletir sobre o tema da Jornada Nacional: “IAM: com a força do Espírito\, testemunhas de Cristo” e o lema “Ide\, convidai a todos para o banquete” (Mc 22\,9).\nPreparar os participantes para o Congresso Nacional em Aparecida (SP).\nSemear a Pontifícia Obra da Infância e Adolescência Missionária\, promovendo a formação de novos grupos em nossa Diocese.\n📍 Local: Centro Regional Caracaranã – Normandia\n💵 Valor da Inscrição: R$ 70\,00 por pessoa\n👕 Camiseta: R$ 35\,00 (pagamento separado) \n📝 Inscrições: De 24/06 a 10/08/2024 \n⚠️ Importante: A inscrição será confirmada somente após o pagamento e envio do comprovante para o número (92) 99318-9544 (Helen Prestes). \n📱 Chave PIX para pagamento: (11) 95152-4721 (Joseph Motema Mampia) \nApós a confirmação\, você será adicionado ao grupo de WhatsApp\, onde receberá todas as informações detalhadas sobre o evento. \nAgradecemos antecipadamente pela sua participação e entusiasmo! Vamos juntos testemunhar a força do Espírito e compartilhar a missão de Cristo! 🙏 \nLink para inscrição: \nhttps://docs.google.com/forms/d/1cwmj3Jcl6ipSrZLQCIuQ_GXBi2I0Ptior7YkHg3aW3s/edit
URL:https://diocesederoraima.org.br/evento/1o-congresso-diocesano/
ATTACH;FMTTYPE=image/jpeg:https://diocesederoraima.org.br/wp-content/uploads/2024/06/WhatsApp-Image-2024-06-26-at-15.30.17.jpeg
END:VEVENT
BEGIN:VEVENT
DTSTART;TZID=America/Boa_Vista:20240902T190000
DTEND;TZID=America/Boa_Vista:20240907T170000
DTSTAMP:20260424T182345
CREATED:20240903T213559Z
LAST-MODIFIED:20240903T213559Z
UID:8564-1725303600-1725728400@diocesederoraima.org.br
SUMMARY:Festa de Santa Teresa De Calcutá
DESCRIPTION:
URL:https://diocesederoraima.org.br/evento/festa-de-santa-teresa-de-calcuta/
CATEGORIES:Festejo
ATTACH;FMTTYPE=image/jpeg:https://diocesederoraima.org.br/wp-content/uploads/2024/09/WhatsApp-Image-2024-09-03-at-08.38.20-1.jpeg
END:VEVENT
BEGIN:VEVENT
DTSTART;TZID=America/Boa_Vista:20240906T080000
DTEND;TZID=America/Boa_Vista:20240908T170000
DTSTAMP:20260424T182345
CREATED:20240903T195422Z
LAST-MODIFIED:20240903T195422Z
UID:8559-1725609600-1725814800@diocesederoraima.org.br
SUMMARY:3ª ENCONTRO DAS COMUNIDADES  ECLESIAIS DE BASE DO REGIONAL NORTE 1
DESCRIPTION:
URL:https://diocesederoraima.org.br/evento/3a-encontro-das-comunidades-eclesiais-de-base-do-regional-norte-1/
LOCATION:Auditorio da Paróquia São Jeronimo- Comunidade São Bento\, Av. Gen. Ataíde Teive\, 2386 A\, Boa vista\, Roraima\, 69309-000\, Brasil
ATTACH;FMTTYPE=image/jpeg:https://diocesederoraima.org.br/wp-content/uploads/2024/09/WhatsApp-Image-2024-09-03-at-08.45.05-2.jpeg
END:VEVENT
BEGIN:VEVENT
DTSTART;TZID=America/Boa_Vista:20240907T163000
DTEND;TZID=America/Boa_Vista:20240907T200000
DTSTAMP:20260424T182345
CREATED:20240814T132519Z
LAST-MODIFIED:20240814T132519Z
UID:8285-1725726600-1725739200@diocesederoraima.org.br
SUMMARY:30º Grito do Excluidos e excluidas
DESCRIPTION:
URL:https://diocesederoraima.org.br/evento/30o-grito-do-excluidos-e-excluidas/
LOCATION:Comunidade São Bento\, Av. Gen. Ataíde Teive\, 2386 A\, Boa Vista\, Roraima\, 69309-000
ATTACH;FMTTYPE=image/jpeg:https://diocesederoraima.org.br/wp-content/uploads/2024/08/WhatsApp-Image-2024-08-13-at-11.25.23-1.jpeg
END:VEVENT
BEGIN:VEVENT
DTSTART;TZID=America/Boa_Vista:20240907T190000
DTEND;TZID=America/Boa_Vista:20240907T220000
DTSTAMP:20260424T182345
CREATED:20240830T124814Z
LAST-MODIFIED:20240830T124814Z
UID:8513-1725735600-1725746400@diocesederoraima.org.br
SUMMARY:Arraiá na Comunidade Santa Luzia
DESCRIPTION:
URL:https://diocesederoraima.org.br/evento/arraia-na-comunidade-santa-luzia/
LOCATION:Santa Luzia\, R. Pedra Pintada\, 117 - Treze de Setembro\, Boa Vista\, Roraima\, 69308-300\, Brasil
ATTACH;FMTTYPE=image/png:https://diocesederoraima.org.br/wp-content/uploads/2024/08/Anotacao-2024-08-27-104607.png
END:VEVENT
BEGIN:VEVENT
DTSTART;TZID=America/Boa_Vista:20240914T190000
DTEND;TZID=America/Boa_Vista:20240914T220000
DTSTAMP:20260424T182345
CREATED:20240903T213924Z
LAST-MODIFIED:20240903T214010Z
UID:8567-1726340400-1726351200@diocesederoraima.org.br
SUMMARY:Arraial da Pastoral da Juventude
DESCRIPTION:
URL:https://diocesederoraima.org.br/evento/arraial-da-pastoral-da-juventude/
LOCATION:Comunidade Sant’ana\, Av. Raimundo Rodrigues Coelho\, Boa Vista\, Roraima\, 69316-762
ATTACH;FMTTYPE=image/jpeg:https://diocesederoraima.org.br/wp-content/uploads/2024/09/WhatsApp-Image-2024-09-03-at-15.00.54.jpeg
END:VEVENT
BEGIN:VEVENT
DTSTART;TZID=America/Boa_Vista:20240915T180000
DTEND;TZID=America/Boa_Vista:20240924T190000
DTSTAMP:20260424T182345
CREATED:20240915T134123Z
LAST-MODIFIED:20240916T141755Z
UID:8688-1726423200-1727204400@diocesederoraima.org.br
SUMMARY:Festa de Nossa Senhora do Livramento Caracaraí
DESCRIPTION:
URL:https://diocesederoraima.org.br/evento/festa-de-nossa-senhora-do-livramento-caracarai/
LOCATION:Paróquia de São José Operário\, R. Sebastião Diniz\, 257\, 69360-000
ATTACH;FMTTYPE=image/png:https://diocesederoraima.org.br/wp-content/uploads/2024/09/Anotacao-2024-09-16-093744.png
END:VEVENT
BEGIN:VEVENT
DTSTART;TZID=America/Boa_Vista:20240918T183000
DTEND;TZID=America/Boa_Vista:20240921T173000
DTSTAMP:20260424T182345
CREATED:20240917T141303Z
LAST-MODIFIED:20240917T141303Z
UID:8749-1726684200-1726939800@diocesederoraima.org.br
SUMMARY:Festejo de São Mateus
DESCRIPTION:
URL:https://diocesederoraima.org.br/evento/festejo-de-sao-mateus/
LOCATION:Paróquia de São Mateus\, R. da Bacabeira\, 664 - Caçari\,\, Boa vista\, RR\, 69307-717
ATTACH;FMTTYPE=image/jpeg:https://diocesederoraima.org.br/wp-content/uploads/2024/09/WhatsApp-Image-2024-09-12-at-12.45.59.jpeg
END:VEVENT
BEGIN:VEVENT
DTSTART;TZID=America/Boa_Vista:20240927T193000
DTEND;TZID=America/Boa_Vista:20241006T190000
DTSTAMP:20260424T182345
CREATED:20240916T160459Z
LAST-MODIFIED:20240916T160459Z
UID:8702-1727465400-1728241200@diocesederoraima.org.br
SUMMARY:Festa de Santa Teresinha
DESCRIPTION:
URL:https://diocesederoraima.org.br/evento/festa-de-santa-teresinha-2/
LOCATION:Comunidade Santa Teresinha\, R. Maj. Ecildon Pinto\, 1260 Laura Moreira\, Boa Vista\, Roraima\, 69318-100
ATTACH;FMTTYPE=image/png:https://diocesederoraima.org.br/wp-content/uploads/2024/09/Anotacao-2024-08-28-151519.png
END:VEVENT
BEGIN:VEVENT
DTSTART;TZID=America/Boa_Vista:20240928T080000
DTEND;TZID=America/Boa_Vista:20240928T120000
DTSTAMP:20260424T182345
CREATED:20240919T140528Z
LAST-MODIFIED:20240919T140528Z
UID:8783-1727510400-1727524800@diocesederoraima.org.br
SUMMARY:Formação da Pastoral da Comunicação
DESCRIPTION:
URL:https://diocesederoraima.org.br/evento/formacao-da-pastoral-da-comunicacao/
LOCATION:Rádio Monte Roraima 107\,9 FM\, R. Floriano Peixoto\, 402/A\, Boa Vista\, RR\, 69301-320\, Brasil
ATTACH;FMTTYPE=image/png:https://diocesederoraima.org.br/wp-content/uploads/2024/09/White-Green-Modern-Personal-Branding-Workshop-Series-Instagram-Post-1080-x-1080-px-1.png
END:VEVENT
BEGIN:VEVENT
DTSTART;TZID=America/Boa_Vista:20240930T190000
DTEND;TZID=America/Boa_Vista:20241007T180000
DTSTAMP:20260424T182345
CREATED:20240916T141354Z
LAST-MODIFIED:20240916T141354Z
UID:8698-1727722800-1728324000@diocesederoraima.org.br
SUMMARY:Festa Nossa Senhora do Rosário
DESCRIPTION:
URL:https://diocesederoraima.org.br/evento/festa-nossa-senhora-do-rosario/
LOCATION:Comunidade Católica Nossa Senhora do Rosário\, R. Raio de Lua\, Boa Vista\, Roraima\, 69315-056\, Brasil
ATTACH;FMTTYPE=image/jpeg:https://diocesederoraima.org.br/wp-content/uploads/2024/09/WhatsApp-Image-2024-09-16-at-10.05.33.jpeg
END:VEVENT
END:VCALENDAR