BEGIN:VCALENDAR
VERSION:2.0
PRODID:-//Diocese de Roraima - ECPv6.15.17//NONSGML v1.0//EN
CALSCALE:GREGORIAN
METHOD:PUBLISH
X-ORIGINAL-URL:https://diocesederoraima.org.br
X-WR-CALDESC:Eventos para Diocese de Roraima
REFRESH-INTERVAL;VALUE=DURATION:PT1H
X-Robots-Tag:noindex
X-PUBLISHED-TTL:PT1H
BEGIN:VTIMEZONE
TZID:America/Boa_Vista
BEGIN:STANDARD
TZOFFSETFROM:-0400
TZOFFSETTO:-0400
TZNAME:-04
DTSTART:20230101T000000
END:STANDARD
END:VTIMEZONE
BEGIN:VEVENT
DTSTART;TZID=America/Boa_Vista:20240927T193000
DTEND;TZID=America/Boa_Vista:20241006T190000
DTSTAMP:20260424T170337
CREATED:20240916T160459Z
LAST-MODIFIED:20240916T160459Z
UID:8702-1727465400-1728241200@diocesederoraima.org.br
SUMMARY:Festa de Santa Teresinha
DESCRIPTION:
URL:https://diocesederoraima.org.br/evento/festa-de-santa-teresinha-2/
LOCATION:Comunidade Santa Teresinha\, R. Maj. Ecildon Pinto\, 1260 Laura Moreira\, Boa Vista\, Roraima\, 69318-100
ATTACH;FMTTYPE=image/png:https://diocesederoraima.org.br/wp-content/uploads/2024/09/Anotacao-2024-08-28-151519.png
END:VEVENT
BEGIN:VEVENT
DTSTART;TZID=America/Boa_Vista:20240930T190000
DTEND;TZID=America/Boa_Vista:20241007T180000
DTSTAMP:20260424T170337
CREATED:20240916T141354Z
LAST-MODIFIED:20240916T141354Z
UID:8698-1727722800-1728324000@diocesederoraima.org.br
SUMMARY:Festa Nossa Senhora do Rosário
DESCRIPTION:
URL:https://diocesederoraima.org.br/evento/festa-nossa-senhora-do-rosario/
LOCATION:Comunidade Católica Nossa Senhora do Rosário\, R. Raio de Lua\, Boa Vista\, Roraima\, 69315-056\, Brasil
ATTACH;FMTTYPE=image/jpeg:https://diocesederoraima.org.br/wp-content/uploads/2024/09/WhatsApp-Image-2024-09-16-at-10.05.33.jpeg
END:VEVENT
BEGIN:VEVENT
DTSTART;TZID=America/Boa_Vista:20241002T050000
DTEND;TZID=America/Boa_Vista:20241012T170000
DTSTAMP:20260424T170337
CREATED:20240904T213557Z
LAST-MODIFIED:20240930T142455Z
UID:8582-1727845200-1728752400@diocesederoraima.org.br
SUMMARY:✨ Festa da Romaria de  Nossa Senhora Aparecida 2024 ✨
DESCRIPTION:
URL:https://diocesederoraima.org.br/evento/%e2%9c%a8-festa-de-nossa-senhora-aparecida-2024-%e2%9c%a8/
LOCATION:Reitoria Aparecida\, R. Roberto Costa\, 519\, Boa Vista\, Roraima\, 69306-440
ATTACH;FMTTYPE=image/png:https://diocesederoraima.org.br/wp-content/uploads/2024/09/Arte-Outdoor-Aparecida-2024-Post-para-Instagram.png
END:VEVENT
BEGIN:VEVENT
DTSTART;TZID=America/Boa_Vista:20241004T190000
DTEND;TZID=America/Boa_Vista:20241004T190000
DTSTAMP:20260424T170337
CREATED:20240916T124917Z
LAST-MODIFIED:20241002T213515Z
UID:8655-1728068400-1728068400@diocesederoraima.org.br
SUMMARY:Festa de São Francisco das Chagas
DESCRIPTION:
URL:https://diocesederoraima.org.br/evento/festa-de-sao-francisco-das-chagas/
LOCATION:Paróquia São Francisco das Chagas\, Av. Cap. Júlio Bezerra\, 775 - São Francisco\, 69305-025\, RR\, 69305-025\, Brasil
ATTACH;FMTTYPE=image/jpeg:https://diocesederoraima.org.br/wp-content/uploads/2024/09/Snapinsta.app_459230130_441589508271425_4968812693167273160_n_1080.jpg
END:VEVENT
BEGIN:VEVENT
DTSTART;TZID=America/Boa_Vista:20241012T180000
DTEND;TZID=America/Boa_Vista:20241012T220000
DTSTAMP:20260424T170337
CREATED:20240916T191933Z
LAST-MODIFIED:20240916T191933Z
UID:8706-1728756000-1728770400@diocesederoraima.org.br
SUMMARY:Festa de Sõ Francisco de Assis Bonfim
DESCRIPTION:
URL:https://diocesederoraima.org.br/evento/festa-de-so-francisco-de-assis-bonfim/
LOCATION:s\, São Francisco\, Bonfim - RR\,\, 69380-000
ATTACH;FMTTYPE=image/jpeg:https://diocesederoraima.org.br/wp-content/uploads/2024/09/Snapinsta.app_458445334_849026507208045_6438003262056815746_n_1080.jpg
END:VEVENT
BEGIN:VEVENT
DTSTART;TZID=America/Boa_Vista:20241016T180000
DTEND;TZID=America/Boa_Vista:20241026T190000
DTSTAMP:20260424T170337
CREATED:20241015T123328Z
LAST-MODIFIED:20241015T123328Z
UID:9250-1729101600-1729969200@diocesederoraima.org.br
SUMMARY:Canonização do Beato José Allamano programação da Diocese de Roraima
DESCRIPTION:
URL:https://diocesederoraima.org.br/evento/canonizacao-do-beato-jose-allamano-programacao-da-diocese-de-roraima/
ATTACH;FMTTYPE=image/png:https://diocesederoraima.org.br/wp-content/uploads/2024/10/jose-allamano-6.png
END:VEVENT
BEGIN:VEVENT
DTSTART;TZID=America/Boa_Vista:20241017T080000
DTEND;TZID=America/Boa_Vista:20241017T170000
DTSTAMP:20260424T170337
CREATED:20241017T160738Z
LAST-MODIFIED:20241017T160738Z
UID:9413-1729152000-1729184400@diocesederoraima.org.br
SUMMARY:Cirio de Nazaré 2024
DESCRIPTION:
URL:https://diocesederoraima.org.br/evento/cirio-de-nazare-2024/
END:VEVENT
BEGIN:VEVENT
DTSTART;TZID=America/Boa_Vista:20241025T090000
DTEND;TZID=America/Boa_Vista:20241025T170000
DTSTAMP:20260424T170337
CREATED:20241021T181432Z
LAST-MODIFIED:20241021T181432Z
UID:9456-1729846800-1729875600@diocesederoraima.org.br
SUMMARY:Ação Social Migração em Dia
DESCRIPTION:
URL:https://diocesederoraima.org.br/evento/acao-social-migracao-em-dia/
LOCATION:Paróquia de Nossa Senhora Consolata\, R. Uraricoera\, 671 - São Vicente\, Boa Vista - RR\, Boa Vista\, Roraima\, Brasil
ATTACH;FMTTYPE=image/jpeg:https://diocesederoraima.org.br/wp-content/uploads/2024/10/WhatsApp-Image-2024-10-21-at-13.59.01-1.jpeg
END:VEVENT
BEGIN:VEVENT
DTSTART;TZID=America/Boa_Vista:20241027T080000
DTEND;TZID=America/Boa_Vista:20241027T170000
DTSTAMP:20260424T170337
CREATED:20241017T141953Z
LAST-MODIFIED:20241017T141953Z
UID:9390-1730016000-1730048400@diocesederoraima.org.br
SUMMARY:DNJ
DESCRIPTION:
URL:https://diocesederoraima.org.br/evento/dnj/
ATTACH;FMTTYPE=image/jpeg:https://diocesederoraima.org.br/wp-content/uploads/2024/10/Snapinsta.app_463203158_513259401671762_6195210869802073886_n_1080-1.jpg
END:VEVENT
END:VCALENDAR