BEGIN:VCALENDAR
VERSION:2.0
PRODID:-//Diocese de Roraima - ECPv6.15.17//NONSGML v1.0//EN
CALSCALE:GREGORIAN
METHOD:PUBLISH
X-WR-CALNAME:Diocese de Roraima
X-ORIGINAL-URL:https://diocesederoraima.org.br
X-WR-CALDESC:Eventos para Diocese de Roraima
REFRESH-INTERVAL;VALUE=DURATION:PT1H
X-Robots-Tag:noindex
X-PUBLISHED-TTL:PT1H
BEGIN:VTIMEZONE
TZID:America/Boa_Vista
BEGIN:STANDARD
TZOFFSETFROM:-0400
TZOFFSETTO:-0400
TZNAME:-04
DTSTART:20240101T000000
END:STANDARD
END:VTIMEZONE
BEGIN:VEVENT
DTSTART;TZID=America/Boa_Vista:20250201T080000
DTEND;TZID=America/Boa_Vista:20250203T170000
DTSTAMP:20260424T112623
CREATED:20250228T143735Z
LAST-MODIFIED:20250228T143735Z
UID:10153-1738396800-1738602000@diocesederoraima.org.br
SUMMARY:Encontro dos Vicentinos na Amazonia
DESCRIPTION:
URL:https://diocesederoraima.org.br/evento/encontro-dos-vicentinos-na-amazonia/
LOCATION:Instituto Religioso Missionario da Consolata\, R. Jósimo de Alençar Macedo\, Boa vista\, RR\, 69303-005
ATTACH;FMTTYPE=image/jpeg:https://diocesederoraima.org.br/wp-content/uploads/2025/02/WhatsApp-Image-2025-02-28-at-10.34.31.jpeg
END:VEVENT
BEGIN:VEVENT
DTSTART;TZID=America/Boa_Vista:20250202T180000
DTEND;TZID=America/Boa_Vista:20250202T200000
DTSTAMP:20260424T112623
CREATED:20250116T150927Z
LAST-MODIFIED:20250121T133132Z
UID:9872-1738519200-1738526400@diocesederoraima.org.br
SUMMARY:Jubileu da Vida Consagrada
DESCRIPTION:
URL:https://diocesederoraima.org.br/evento/jubileu-da-vida-consagrada/
LOCATION:igreja São Mateus\, rua Bacabeira\, 664\, Caçari\, Boa Vista\, Roraima\, 69307717
END:VEVENT
BEGIN:VEVENT
DTSTART;TZID=America/Boa_Vista:20250228T190000
DTEND;TZID=America/Boa_Vista:20250228T210000
DTSTAMP:20260424T112623
CREATED:20250226T134803Z
LAST-MODIFIED:20250226T134803Z
UID:10097-1740769200-1740776400@diocesederoraima.org.br
SUMMARY:Formação: POR UMA PARÓQUIA SINODAL
DESCRIPTION:A Diocese de Roraima convida a todos(as) para a Formação Aberta para Leigos(as) que será no dia 28 de fevereiro. \n🗓 Data:28 de fevereiro (sexta-feira)\n⏰ Horário:A partir das 19h\n📍 Local:Prelazia\n🎙 Formador:Prof. Celso Pinto Carias – Doutor em Teologia (PUC-Rio)\n📖 Tema: Por uma Paróquia Sinodal
URL:https://diocesederoraima.org.br/evento/formacao-por-uma-paroquia-sinodal/
LOCATION:PRELAZIA\, rua Bento Brasil\, 613\, Centro\, Boa Vista\, Roraima
END:VEVENT
END:VCALENDAR