BEGIN:VCALENDAR
VERSION:2.0
PRODID:-//Diocese de Roraima - ECPv6.15.17//NONSGML v1.0//EN
CALSCALE:GREGORIAN
METHOD:PUBLISH
X-ORIGINAL-URL:https://diocesederoraima.org.br
X-WR-CALDESC:Eventos para Diocese de Roraima
REFRESH-INTERVAL;VALUE=DURATION:PT1H
X-Robots-Tag:noindex
X-PUBLISHED-TTL:PT1H
BEGIN:VTIMEZONE
TZID:America/Boa_Vista
BEGIN:STANDARD
TZOFFSETFROM:-0400
TZOFFSETTO:-0400
TZNAME:-04
DTSTART:20240101T000000
END:STANDARD
END:VTIMEZONE
BEGIN:VEVENT
DTSTART;TZID=America/Boa_Vista:20250405T073000
DTEND;TZID=America/Boa_Vista:20250405T163000
DTSTAMP:20260424T082358
CREATED:20250331T131607Z
LAST-MODIFIED:20250331T131620Z
UID:10388-1743838200-1743870600@diocesederoraima.org.br
SUMMARY:CDE - Conselho Diocesano de Evangelização
DESCRIPTION:Estimados(as) membros do Conselho Diocesano de Evangelização (CDE) \nPresbíteros\, Diáconos\, Religiosos e Religiosas\, representantes das Paróquias e Áreas Missionárias\, Missões Indígenas\, Coordenadores(as) das Pastorais\, Movimentos\, Organismos e Serviços Diocesanos. \nPaz e bem!\nCom grande alegria convidamos os membros do Conselho de Evangelização para a reunião ordinária do Conselho Diocesano de Evangelização (CDE). \nData: 05 de Abril de 2025\nHorário: 07h30 às 16h30;\nLocal: Colégio Claretiano
URL:https://diocesederoraima.org.br/evento/cde-conselho-diocesano-de-evangelizacao/
LOCATION:Claretiano – Colégio e Faculdade\, Tv. Antônio Augusto Martins\, 52\, Boa vista\, Roraima\, 69305-270\, Brasil
END:VEVENT
BEGIN:VEVENT
DTSTART;TZID=America/Boa_Vista:20250425T080000
DTEND;TZID=America/Boa_Vista:20250426T230000
DTSTAMP:20260424T082358
CREATED:20250324T140303Z
LAST-MODIFIED:20250324T140303Z
UID:10299-1745568000-1745708400@diocesederoraima.org.br
SUMMARY:Jubileu povos Indígenas
DESCRIPTION:🌿🍃 JUBILEU DOS POVOS INDÍGENAS 🌿🍃 \nCom o coração cheio de esperança – convidamos a todo povo de Deus da Diocese de Roraima a se fazer presente no Jubileu dos povos Indígenas e Ordenação Dioaconal Djavan André da Silva. \n📅 Nos dias 25 à 26 de Abril de 2025:\nRegião do Surumu\n📍 Centro Indígena de Formação e cultura Raposa Serra do Sol – Surumu \nConfira a programação: \n🌱 25/04 – Sexta-feira:\n– 08h00 às 17h00 – Seminário: Memória e compromisso da Igreja de Roraima com os povos Indígenas.\n🌱 26/04 – Sábado\n– 08h30 – Concentração – Aeroporto Surumu\n– 09h00 – Peregrinação para o Centro Indígena de Formação\n– Celebração Eucarística – ordenação Diaconal Djavan André da Silva – \nDiocese de Roraima – 300 anos de evangelização. \n#diocesederoraima #jubileu300anos #conselhoindígenaderoraima
URL:https://diocesederoraima.org.br/evento/jubileu-povos-indigenas/
LOCATION:Surumu\, RR 319 Terra Indígena Raposa Serra do Sol - Região Raposa\,\, Normandia - RR\, Roraima\, 69355-000
END:VEVENT
BEGIN:VEVENT
DTSTART;TZID=America/Boa_Vista:20250426T050000
DTEND;TZID=America/Boa_Vista:20250426T070000
DTSTAMP:20260424T082358
CREATED:20250423T131536Z
LAST-MODIFIED:20250423T131536Z
UID:10607-1745643600-1745650800@diocesederoraima.org.br
SUMMARY:Exéquias do Papa Francisco: sábado na Praça São Pedro
DESCRIPTION:O Vaticano anunciou os detalhes das exéquias do Papa Francisco. Em 23 de abril\, o corpo será trasladado à Basílica de São Pedro. A Missa das Exéquias será celebrada em 26 de abril\, seguida do sepultamento na Basílica de Santa Maria Maior.\n\n\nVatican News \nO Departamento de Celebrações Litúrgicas do Vaticano anunciou os detalhes das exéquias do Papa Francisco. A cerimônia segue as indicações estabelecidas no Ordo Exsequiarum Romani Pontificis\, documento que rege os ritos funerários do Pontífice Romano. \nTraslado para a Basílica de São Pedro\nNa quarta-feira\, 23 de abril\, às 9h (horário local)\, o corpo do Papa Francisco será trasladado da Capela da Casa Santa Marta até a Basílica de São Pedro. A condução da urna será precedida por um momento de oração\, presidido pelo cardeal Kevin Joseph Farrell\, camerlengo da Santa Igreja Romana. \nA procissão seguirá pela Praça Santa Marta e pela Praça dos Protormártires Romanos\, saindo pelo Arco dos Sinos até a Praça São Pedro\, entrando em seguida na Basílica Vaticana pela porta central. Diante do Altar da Confissão\, o cardeal camerlengo conduzirá a Liturgia da Palavra\, após a qual será aberto o período de visitação à urna mortuária do Papa Francisco. \nExéquias e sepultamento\nNo sábado\, 26 de abril\, às 10h (horário local)\, será celebrada a Missa das Exéquias\, que marca o primeiro dia do Novendiali (novenário)\, os nove dias de luto e orações em honra ao Pontífice falecido. A celebração ocorrerá no átrio da Basílica de São Pedro e será presidida pelo cardeal Giovanni Battista Re\, decano do Colégio Cardinalício. \nAo final da celebração eucarística\, ocorrerão os ritos da Última Commendatio e da Valedictio — despedidas solenes que marcam o encerramento das exéquias. Em seguida\, o caixão do Papa será levado novamente para o interior da Basílica de São Pedro e\, de lá\, transferido para a Basílica de Santa Maria Maior\, onde será realizada a cerimônia de sepultamento. \nDiversos chefes de Estado e de governo já anunciaram oficialmente sua presença para prestar homenagem ao Pontífice falecido.
URL:https://diocesederoraima.org.br/evento/exequias-do-papa-francisco-sabado-na-praca-sao-pedro/
LOCATION:Basílica de Santa Maria Maggiore\, P.za di Santa Maria Maggiore\, 00100\, Roma RM\, Itália
ATTACH;FMTTYPE=image/jpeg:https://diocesederoraima.org.br/wp-content/uploads/2025/04/snapins-ai_3617075950006303285.jpg
END:VEVENT
END:VCALENDAR