BEGIN:VCALENDAR
VERSION:2.0
PRODID:-//Diocese de Roraima - ECPv6.15.17//NONSGML v1.0//EN
CALSCALE:GREGORIAN
METHOD:PUBLISH
X-WR-CALNAME:Diocese de Roraima
X-ORIGINAL-URL:https://diocesederoraima.org.br
X-WR-CALDESC:Eventos para Diocese de Roraima
REFRESH-INTERVAL;VALUE=DURATION:PT1H
X-Robots-Tag:noindex
X-PUBLISHED-TTL:PT1H
BEGIN:VTIMEZONE
TZID:America/Boa_Vista
BEGIN:STANDARD
TZOFFSETFROM:-0400
TZOFFSETTO:-0400
TZNAME:-04
DTSTART:20240101T000000
END:STANDARD
END:VTIMEZONE
BEGIN:VEVENT
DTSTART;TZID=America/Boa_Vista:20250809T160000
DTEND;TZID=America/Boa_Vista:20250809T180000
DTSTAMP:20260424T024630
CREATED:20250722T134015Z
LAST-MODIFIED:20250722T134253Z
UID:11439-1754755200-1754762400@diocesederoraima.org.br
SUMMARY:Jubileu dos  Vocacionados
DESCRIPTION:16h – Concentração Paróquia São Francisco\nPeregrinação até o Santuário Nossa Senhora Aparecida. \n18h – Santa Missa Santuário Nossa Senhora Aparecida\nSanta Missa na chegada\, logo após a missa\, haverá um momento de fraternidade com cantos\, apresentações e outras atividades.\nMais informações:\nIrmã Antônia (95)98109-9164
URL:https://diocesederoraima.org.br/evento/jubileu-dos-vocacionados/
LOCATION:Reitoria Aparecida\, R. Roberto Costa\, 519\, Boa Vista\, Roraima\, 69306-440
ATTACH;FMTTYPE=image/png:https://diocesederoraima.org.br/wp-content/uploads/2025/07/Jubileu-Vocacionados.png
END:VEVENT
BEGIN:VEVENT
DTSTART;TZID=America/Boa_Vista:20250831T143000
DTEND;TZID=America/Boa_Vista:20250831T180000
DTSTAMP:20260424T024630
CREATED:20250722T194000Z
LAST-MODIFIED:20250722T194000Z
UID:11444-1756650600-1756663200@diocesederoraima.org.br
SUMMARY:Jubileu Catequistas 2025
DESCRIPTION:14h30 – Paróquia São Francisco \n\n\n\n\nConcentração\, memória e partilha \n\n\n\n\n17h – Saída da peregrinação \n\n\n\n\nSaída da Peregrinação em direção ao Santuário de Nossa Senhora Aparecida \n\n\n\n\n18h – Missa do Jubileu dos Catequistas \n\n\n\n\nSantuário de Nossa Senhora Aparecida
URL:https://diocesederoraima.org.br/evento/jubileu-catequistas-2025/
LOCATION:Paróquia São Francisco das Chagas\, Av. Cap. Júlio Bezerra\, 775 - São Francisco\, 69305-025\, RR\, 69305-025\, Brasil
ATTACH;FMTTYPE=image/png:https://diocesederoraima.org.br/wp-content/uploads/2025/07/Jubileu-Catequistas-03.png
END:VEVENT
END:VCALENDAR