BEGIN:VCALENDAR
VERSION:2.0
PRODID:-//Diocese de Roraima - ECPv6.15.17//NONSGML v1.0//EN
CALSCALE:GREGORIAN
METHOD:PUBLISH
X-WR-CALNAME:Diocese de Roraima
X-ORIGINAL-URL:https://diocesederoraima.org.br
X-WR-CALDESC:Eventos para Diocese de Roraima
REFRESH-INTERVAL;VALUE=DURATION:PT1H
X-Robots-Tag:noindex
X-PUBLISHED-TTL:PT1H
BEGIN:VTIMEZONE
TZID:America/Boa_Vista
BEGIN:STANDARD
TZOFFSETFROM:-0400
TZOFFSETTO:-0400
TZNAME:-04
DTSTART:20240101T000000
END:STANDARD
END:VTIMEZONE
BEGIN:VEVENT
DTSTART;TZID=America/Boa_Vista:20251208T080000
DTEND;TZID=America/Boa_Vista:20251208T200000
DTSTAMP:20260423T184033
CREATED:20251208T131338Z
LAST-MODIFIED:20251208T131338Z
UID:12171-1765180800-1765224000@diocesederoraima.org.br
SUMMARY:FESTEJO DE NOSSA SENHORA Imaculada Conceição - TEMA: Eis aqui a serva do Senhor. (Lc 1\,38)
DESCRIPTION:
URL:https://diocesederoraima.org.br/evento/festejo-de-nossa-senhora-imaculada-conceicao-tema-eis-aqui-a-serva-do-senhor-lc-138/
LOCATION:cOMUNIDADE IMACULADA CONCEIÇÃO\, Rua Raimundo Penafort\, nº 446 – Buritis\, Boa Vista\, RR\, 69309-165
ATTACH;FMTTYPE=image/jpeg:https://diocesederoraima.org.br/wp-content/uploads/2025/12/WhatsApp-Image-2025-11-25-at-09.44.05.jpeg
END:VEVENT
END:VCALENDAR